{"text_format":"1","workbook":"xlsx","n_sheets":5,"sheets":["注意事項","記載例","基本項目","請求書","継続"],"not_rendered":{"charts":0,"images":3,"macros":1,"external_links":0,"defined_names":1,"comments":1,"pivot_tables":0},"unopened":[],"bounds":{"document_bytes":16777216,"sheet_cells":100000,"rows_first":2000,"rows_last":500,"rows_between":2000,"halvings":0,"cell_chars":16384,"cell_head_chars":4096},"cells_cut":0,"cells_raw":0,"read":"whole","date_system":"1900"}

{"sheet":"注意事項","index":0,"n_rows":23,"n_cols":10,"rows_kept":23,"cut":false,"hidden":false,"merged":[[0,1,0,23]]}
[null,"注意事項"]
[]
[null,"１",null,"”基本項目”シートの白抜き欄を全て入力してください。"]
[null,null,null,null,"注）入力時にセルの移動を\"入力後・右”にしてください"]
[null,null,null,null,null,"又は、入力後”左右方向キー”にて移動させてください"]
[]
[null,"２",null,"この請求書は３枚印刷になっております。"]
[null,null,null,null,null,null,null,null,null,"ボタンを押下しますと\"貴社控え\"\"現場控え\"\"本支店用\"が各一部づつ印刷されますので"]
[null,null,null,"\"貴社控え\"を除いた”現場控・本支店用”に捺印の上、担当作業所に提出してください。"]
[]
[null,"３",null,"内訳が不足する場合、別紙”継続”用紙を使用してください。"]
[null,null,null,"貴社において、コンピュータ等の明細書が発行される場合は、そちらを添付していただいても結構です。"]
[null,null,null,null,null,null,null,null,null,"ボタンを押下しますと３部印刷されますので、２部提出してください。"]
[]
[null,"４",null,"記載例を参考に入力してください。"]
[]
[null,"５",null,"消費税率が変更になった場合は、税率ごとに請求書を作成してください。"]
[]
[null,"６",null,"初めてこの請求書を使用される方および従来の住所、ＴＥＬ、ＦＡＸ、取引銀行等の変更をされる方は、あらかじめ当社指定様式の"]
[null,null,null,"「取引先登録カード」を提出してください。"]
[]
[]
[null,null,null,"尚、上記のいずれかが記入漏れの場合の請求書は、受け付けられませんので、注意してください。"]

{"sheet":"記載例","index":1,"n_rows":41,"n_cols":2,"rows_kept":41,"cut":false,"hidden":false,"merged":[]}
["記載例　①"]
[null,"請求明細が1ページで収まるときは、全て記載してください。"]
[]
[]
[]
[]
[]
[]
[]
[]
[]
[]
[]
[]
[]
[]
[]
[]
[]
[]
[]
[]
[]
[]
[]
[]
[]
[]
[]
[]
[]
[]
[]
[]
[]
[]
[]
[]
[]
["記載例　②"]
[null,"請求明細が1ページで収まらないときは、継続用紙を使用してください。"]

{"sheet":"基本項目","index":2,"n_rows":22,"n_cols":16,"rows_kept":22,"cut":false,"hidden":false,"merged":[[21,1,21,6],[8,1,8,6],[18,1,18,6],[12,1,12,3],[14,1,14,3],[16,1,16,3],[1,1,1,3],[4,1,4,6],[5,1,5,6],[6,1,6,6],[7,1,7,6]]}
["基本項目入力"]
["提出先・本支店",null,null,null,null,"※提出先作業所の本支店をプルダウンメニューから選択すること",null,null,null,null,null,null,null,null,null,"札幌支店"]
["カブキコード",null,"-",0,null,"※必ず入力！！",null,{"$f":"IF(B3=\"\",\"\",TEXT(B3,\"0000\"))","v":""},{"$f":"IF(D3=\"\",\"\",TEXT(D3,\"000\"))","v":"000"},"不明の場合、現場担当者に確認",null,null,null,null,null,"茨城本店"]
["郵便番号",null,"-",null,null,null,null,{"$f":"IF(B4=\"\",\"\",TEXT(B4,\"000\"))","v":""},{"$f":"IF(D4=\"\",\"\",TEXT(D4,\"0000\"))","v":""},null,null,null,null,null,null,"東京本店"]
["住所",null,null,null,null,null,null,null,null,"※ゴム印を使用する場合は未入力",null,null,null,null,null,"名古屋支店"]
["フリガナ",null,null,null,null,null,null,null,null,null,null,null,null,null,null,"大阪支店"]
["会社名",null,null,null,null,null,null,null,null,"※ゴム印を使用する場合は未入力",null,null,null,null,null,"九州支店"]
["代表者役職名",null,null,null,null,null,null,null,null,"※ゴム印を使用する場合は未入力",null,null,null,null,null,"本社"]
["代表者氏名",null,null,null,null,null,null,null,null,"※ゴム印を使用する場合は未入力"]
["電話番号",null,"-",null,"-"]
["FAX番号",null,"-",null,"-"]
["振込先"]
["銀行名"]
["銀行コード",null,null,null,null,"４桁の銀行コードを入力",null,{"$f":"IF(B14=\"\",\"\",TEXT(B14,\"0000\"))","v":""}]
["支店名"]
["支店コード",null,null,null,null,"３桁の支店コードを入力",null,{"$f":"IF(B16=\"\",\"\",TEXT(B16,\"000\"))","v":""}]
["預金種別"]
["口座番号",null,null,null,null,"７桁の口座番号を入力",null,{"$f":"IF(B18=\"\",\"\",TEXT(B18,\"0000000\"))","v":""}]
["口座名義(カタカナ)"]
[]
["工事番号",null,null,1,null,null,null,{"$f":"IF(B21=\"\",\"\",TEXT(B21,\"0000000\"))","v":""},{"$f":"TEXT(D21,\"00\")","v":"01"},"※工事番号"]
["工事名称",null,null,null,null,null,null,null,null,"　　及び工事名称は現場担当者に確認すること"]

{"sheet":"請求書","index":3,"n_rows":117,"n_cols":54,"rows_kept":117,"cut":false,"hidden":false,"merged":[[34,46,34,50],[28,32,28,34],[29,32,29,34],[30,32,30,34],[31,32,31,34],[35,42,35,46],[34,36,34,41],[32,32,32,34],[33,32,33,34],[34,32,34,34],[35,32,35,34],[33,42,33,45],[24,32,24,34],[25,32,25,34],[26,32,26,34],[27,32,27,34],[20,32,20,34],[21,32,21,34],[22,32,22,34],[23,32,23,34],[33,48,33,51],[33,46,33,47],[34,26,34,31],[27,26,27,31],[28,26,28,31],[29,26,29,31],[30,26,30,31],[31,26,31,31],[32,26,32,31],[20,16,20,19],[21,16,21,19],[22,16,22,19],[23,16,23,19],[26,26,26,31],[33,26,33,31],[31,22,31,25],[32,22,32,25],[33,22,33,25],[30,22,30,25],[34,16,34,19],[29,16,29,19],[30,16,30,19],[31,16,31,19],[32,16,32,19],[26,16,26,19],[27,16,27,19],[24,20,24,21],[34,22,34,25],[33,20,33,21],[34,20,34,21],[23,22,23,25],[24,22,24,25],[25,22,25,25],[26,22,26,25],[27,22,27,25],[28,22,28,25],[29,22,29,25],[33,52,33,53],[33,36,33,41],[32,3,32,15],[33,3,33,15],[26,3,26,15],[27,3,27,15],[28,3,28,15],[29,3,29,15],[25,20,25,21],[26,20,26,21],[27,20,27,21],[28,20,28,21],[30,3,30,15],[31,3,31,15],[29,20,29,21],[30,20,30,21],[31,20,31,21],[32,20,32,21],[28,16,28,19],[33,16,33,19],[36,32,36,34],[37,32,37,34],[20,22,20,25],[21,22,21,25],[22,22,22,25],[20,26,20,31],[24,3,24,15],[25,3,25,15],[35,36,35,41],[36,36,37,41],[35,22,35,31],[36,22,36,31],[37,22,37,31],[21,26,21,31],[22,26,22,31],[23,26,23,31],[24,26,24,31],[25,26,25,31],[24,16,24,19],[25,16,25,19],[34,3,34,15],[20,20,20,21],[21,20,21,21],[22,20,22,21],[23,3,23,15],[20,3,20,15],[21,3,21,15],[22,3,22,15],[0,17,0,33],[19,26,19,31],[9,0,10,4],[19,3,19,15],[19,0,19,2],[19,16,19,19],[6,5,7,11],[6,13,7,14],[9,5,10,29],[19,20,19,21],[19,22,19,25],[23,20,23,21],[19,32,19,34],[2,22,2,30],[6,0,7,4],[6,12,7,12],[3,7,3,11],[6,36,16,36],[10,38,10,52],[12,38,13,42],[12,44,13,51],[12,52,13,53],[4,36,5,39],[15,43,15,45],[16,43,16,45],[15,47,15,50],[16,47,16,50],[15,39,15,41],[16,39,16,41],[7,38,9,52],[39,17,39,33],[41,22,41,30],[43,36,44,39],[45,0,46,4],[45,5,46,11],[45,12,46,12],[45,13,46,14],[45,36,55,36],[47,38,47,52],[48,0,49,4],[54,39,54,41],[54,43,54,45],[54,47,54,50],[55,39,55,41],[55,43,55,45],[55,47,55,50],[48,5,49,29],[49,38,49,52],[51,38,52,42],[51,44,52,51],[51,52,52,53],[52,20,55,22],[52,23,55,31],[52,32,55,34],[60,26,60,31],[52,1,55,12],[51,13,51,19],[58,32,58,34],[59,3,59,15],[59,16,59,19],[59,20,59,21],[59,22,59,25],[59,26,59,31],[59,32,59,34],[58,0,58,2],[58,3,58,15],[58,16,58,19],[58,20,58,21],[58,22,58,25],[58,26,58,31],[64,26,64,31],[60,32,60,34],[61,26,61,31],[61,32,61,34],[63,26,63,31],[63,32,63,34],[60,3,60,15],[60,16,60,19],[60,20,60,21],[60,22,60,25],[62,26,62,31],[62,32,62,34],[61,3,61,15],[61,16,61,19],[61,20,61,21],[61,22,61,25],[62,3,62,15],[62,16,62,19],[63,3,63,15],[63,16,63,19],[63,20,63,21],[63,22,63,25],[62,20,62,21],[62,22,62,25],[68,26,68,31],[64,32,64,34],[65,26,65,31],[65,32,65,34],[67,26,67,31],[67,32,67,34],[64,3,64,15],[64,16,64,19],[64,20,64,21],[64,22,64,25],[66,26,66,31],[66,32,66,34],[65,3,65,15],[65,16,65,19],[65,20,65,21],[65,22,65,25],[66,3,66,15],[66,16,66,19],[67,3,67,15],[67,16,67,19],[67,20,67,21],[67,22,67,25],[66,20,66,21],[66,22,66,25],[69,20,69,21],[69,22,69,25],[70,3,70,15],[70,16,70,19],[71,3,71,15],[71,16,71,19],[71,20,71,21],[71,22,71,25],[70,20,70,21],[70,22,70,25],[72,36,72,41],[72,42,72,45],[72,46,72,47],[72,48,72,51],[72,52,72,53],[73,3,73,15],[73,16,73,19],[73,20,73,21],[73,22,73,25],[73,26,73,31],[72,3,72,15],[72,16,72,19],[72,20,72,21],[72,22,72,25],[72,26,72,31],[72,32,72,34],[73,32,73,34],[73,36,73,41],[73,46,73,50],[74,22,74,31],[74,32,74,34],[74,36,74,41],[74,42,74,46],[78,17,78,33],[80,22,80,30],[82,36,83,39],[74,0,74,17],[76,0,76,17],[75,22,75,31],[75,32,75,34],[75,36,76,41],[76,22,76,31],[76,32,76,34],[84,36,94,36],[86,38,86,52],[87,0,88,4],[93,39,93,41],[93,43,93,45],[93,47,93,50],[94,39,94,41],[94,43,94,45],[94,47,94,50],[87,5,88,29],[88,38,88,52],[90,38,91,42],[90,44,91,51],[90,52,91,53],[90,20,90,31],[91,13,94,19],[90,13,90,19],[90,1,90,12],[90,32,90,34],[97,0,97,2],[97,3,97,15],[97,16,97,19],[97,20,97,21],[97,22,97,25],[97,26,97,31],[84,0,85,4],[84,5,85,11],[84,12,85,12],[84,13,85,14],[102,3,102,15],[102,16,102,19],[102,20,102,21],[102,22,102,25],[101,20,101,21],[101,22,101,25],[99,26,99,31],[97,32,97,34],[98,3,98,15],[98,16,98,19],[98,20,98,21],[98,22,98,25],[98,26,98,31],[98,32,98,34],[106,3,106,15],[106,16,106,19],[106,20,106,21],[106,22,106,25],[105,20,105,21],[105,22,105,25],[103,26,103,31],[99,32,99,34],[100,26,100,31],[100,32,100,34],[102,26,102,31],[102,32,102,34],[99,3,99,15],[99,16,99,19],[99,20,99,21],[99,22,99,25],[101,26,101,31],[101,32,101,34],[100,3,100,15],[100,16,100,19],[100,20,100,21],[100,22,100,25],[101,3,101,15],[101,16,101,19],[103,3,103,15],[103,16,103,19],[103,20,103,21],[103,22,103,25],[105,26,105,31],[105,32,105,34],[104,3,104,15],[104,16,104,19],[104,20,104,21],[104,22,104,25],[105,3,105,15],[105,16,105,19],[103,32,103,34],[104,26,104,31],[104,32,104,34],[106,26,106,31],[106,32,106,34],[107,16,107,19],[107,20,107,21],[107,22,107,25],[109,26,109,31],[109,32,109,34],[108,3,108,15],[108,16,108,19],[108,20,108,21],[108,22,108,25],[115,0,115,17],[111,36,111,41],[111,42,111,45],[111,46,111,47],[111,48,111,51],[114,36,115,41],[115,22,115,31],[115,32,115,34],[110,16,110,19],[110,20,110,21],[110,22,110,25],[109,20,109,21],[111,52,111,53],[112,3,112,15],[112,16,112,19],[112,20,112,21],[112,22,112,25],[112,26,112,31],[111,3,111,15],[111,16,111,19],[111,20,111,21],[111,22,111,25],[111,26,111,31],[111,32,111,34],[112,32,112,34],[112,36,112,41],[112,46,112,50],[35,0,35,17],[51,1,51,12],[51,32,51,34],[52,13,55,19],[51,20,51,31],[51,0,55,0],[91,20,94,22],[91,23,94,31],[91,32,94,34],[90,0,94,0],[91,1,94,12],[68,32,68,34],[69,26,69,31],[69,32,69,34],[71,26,71,31],[71,32,71,34],[68,3,68,15],[68,16,68,19],[68,20,68,21],[68,22,68,25],[70,26,70,31],[70,32,70,34],[69,3,69,15],[69,16,69,19],[42,7,42,11],[81,7,81,11],[113,22,113,31],[113,32,113,34],[113,36,113,41],[113,42,113,46],[36,0,36,17],[75,0,75,17],[114,0,114,17],[37,0,37,17],[114,22,114,31],[114,32,114,34],[109,3,109,15],[109,16,109,19],[110,3,110,15],[113,0,113,17],[109,22,109,25],[107,26,107,31],[107,32,107,34],[108,26,108,31],[108,32,108,34],[110,26,110,31],[110,32,110,34],[107,3,107,15]]}
[null,null,null,null,null,null,null,null,null,null,null,null,null,null,null,null,null,"　請　　求　　書　（　貴　社　控　）　"]
[]
[null,null,null,null,null,null,null,null,null,null,null,null,null,null,null,null,null,null,null,null,null,null,"2018-04-20"]
["株木建設株式会社",null,null,null,null,null,null,{"$f":"+基本項目!B2","v":0},null,null,null,null,null,"御中",null,null,null,null,null,null,null,null,null,null,null,null,null,null,null,null,null,null,null,null,null,null,"※カブキコードを記入",null,null,null,null,null,"→",{"$f":"MID(基本項目!$H$3,1,1)","v":""},{"$f":"MID(基本項目!$H$3,2,1)","v":""},{"$f":"MID(基本項目!$H$3,3,1)","v":""},{"$f":"MID(基本項目!$H$3,4,1)","v":""},{"$f":"MID(基本項目!$H$3,5,1)","v":""},{"$f":"MID(基本項目!$H$3,6,1)","v":""},{"$f":"MID(基本項目!$H$3,7,1)","v":""},"－",{"$f":"MID(基本項目!$I$3,1,1)","v":"0"},{"$f":"MID(基本項目!$I$3,1,1)","v":"0"},{"$f":"MID(基本項目!$I$3,1,1)","v":"0"}]
[null,null,null,null,null,null,null,null,null,null,null,null,null,null,null,null,null,null,null,null,null,null,null,null,null,null,null,null,null,null,null,null,null,null,null,null,"フ　リ　ガ　ナ",null,null,null,{"$f":"MID(基本項目!$B$6,1,1)","v":""},{"$f":"MID(基本項目!$B$6,2,1)","v":""},{"$f":"MID(基本項目!$B$6,3,1)","v":""},{"$f":"MID(基本項目!$B$6,4,1)","v":""},{"$f":"MID(基本項目!$B$6,5,1)","v":""},{"$f":"MID(基本項目!$B$6,6,1)","v":""},{"$f":"MID(基本項目!$B$6,7,1)","v":""},{"$f":"MID(基本項目!$B$6,8,1)","v":""},{"$f":"MID(基本項目!$B$6,9,1)","v":""},{"$f":"MID(基本項目!$B$6,10,1)","v":""},{"$f":"MID(基本項目!$B$6,11,1)","v":""},{"$f":"MID(基本項目!$B$6,12,1)","v":""},{"$f":"MID(基本項目!$B$6,13,1)","v":""},{"$f":"MID(基本項目!$B$6,14,1)","v":""}]
[null,null,null,null,null,null,null,null,null,null,null,null,null,null,null,null,null,null,null,null,null,null,null,null,null,null,null,null,null,null,null,null,null,null,null,null,null,null,null,null,{"$f":"MID(基本項目!$B$6,15,1)","v":""},{"$f":"MID(基本項目!$B$6,16,1)","v":""},{"$f":"MID(基本項目!$B$6,17,1)","v":""},{"$f":"MID(基本項目!$B$6,18,1)","v":""},{"$f":"MID(基本項目!$B$6,19,1)","v":""},{"$f":"MID(基本項目!$B$6,20,1)","v":""},{"$f":"MID(基本項目!$B$6,21,1)","v":""},{"$f":"MID(基本項目!$B$6,22,1)","v":""},{"$f":"MID(基本項目!$B$6,23,1)","v":""},{"$f":"MID(基本項目!$B$6,24,1)","v":""},{"$f":"MID(基本項目!$B$6,25,1)","v":""},{"$f":"MID(基本項目!$B$6,26,1)","v":""},{"$f":"MID(基本項目!$B$6,27,1)","v":""},{"$f":"MID(基本項目!$B$6,28,1)","v":""}]
["工　事　番　号",null,null,null,null,{"$f":"基本項目!H21","v":""},null,null,null,null,null,null,"－",{"$f":"基本項目!I21","v":"01"},null,null,null,null,null,null,null,null,null,null,null,null,null,null,null,null,null,null,null,null,null,null,"住所・社名・氏名","〒",{"$f":"MID(基本項目!$H$4,1,1)","v":""},{"$f":"MID(基本項目!$H$4,2,1)","v":""},{"$f":"MID(基本項目!$H$4,3,1)","v":""},"－",{"$f":"MID(基本項目!$I$4,1,1)","v":""},{"$f":"MID(基本項目!$I$4,2,1)","v":""},{"$f":"MID(基本項目!$I$4,3,1)","v":""},{"$f":"MID(基本項目!$I$4,4,1)","v":""}]
[null,null,null,null,null,null,null,null,null,null,null,null,null,null,null,null,null,null,null,null,null,null,null,null,null,null,null,null,null,null,null,null,null,null,null,null,null,null,{"$f":"+基本項目!B5","v":0}]
[]
["工　事　名　称",null,null,null,null,{"$f":"基本項目!B22","v":0}]
[null,null,null,null,null,null,null,null,null,null,null,null,null,null,null,null,null,null,null,null,null,null,null,null,null,null,null,null,null,null,null,null,null,null,null,null,null,null,{"$f":"+基本項目!B7","v":0}]
[]
[null,null,null,null,null,null,null,null,null,null,null,null,null,null,null,null,null,null,null,null,null,null,null,null,null,null,null,null,null,null,null,null,null,null,null,null,null,null,{"$f":"+基本項目!B8","v":0},null,null,null,null,null,{"$f":"+基本項目!B9","v":0},null,null,null,null,null,null,null,"㊞"]
[]
[]
[null,null,null,null,null,null,null,null,null,null,null,null,null,null,null,null,null,null,null,null,null,null,null,null,null,null,null,null,null,null,null,null,null,null,null,null,null,"ＴＥＬ",null,{"$f":"+基本項目!B10","v":0},null,null,"（",{"$f":"+基本項目!D10","v":0},null,null,"）",{"$f":"+基本項目!F10","v":0}]
[null,null,null,null,null,null,null,null,null,null,null,null,null,null,null,null,null,null,null,null,null,null,null,null,null,null,null,null,null,null,null,null,null,null,null,null,null,"ＦＡＸ",null,{"$f":"+基本項目!B11","v":0},null,null,"（",{"$f":"+基本項目!D11","v":0},null,null,"）",{"$f":"+基本項目!F11","v":0}]
[]
[null,null,null,"下　記　の　通　り　請　求　致　し　ま　す　。"]
["月/日",null,null,"品　　　　　名",null,null,null,null,null,null,null,null,null,null,null,null,"数　　量",null,null,null,"単位",null,"単価",null,null,null,"金　　　　　額",null,null,null,null,null,"摘　要"]
[null,"/",null,null,null,null,null,null,null,null,null,null,null,null,null,null,null,null,null,null,null,null,null,null,null,null,{"$f":"ROUND(Q21*W21,0)","v":0}]
[null,"/",null,null,null,null,null,null,null,null,null,null,null,null,null,null,null,null,null,null,null,null,null,null,null,null,{"$f":"ROUND(Q22*W22,0)","v":0}]
[null,"/",null,null,null,null,null,null,null,null,null,null,null,null,null,null,null,null,null,null,null,null,null,null,null,null,0]
[null,"/",null,null,null,null,null,null,null,null,null,null,null,null,null,null,null,null,null,null,null,null,null,null,null,null,{"$f":"ROUND(Q24*W24,0)","v":0}]
[null,"/",null,null,null,null,null,null,null,null,null,null,null,null,null,null,null,null,null,null,null,null,null,null,null,null,0]
[null,"/",null,null,null,null,null,null,null,null,null,null,null,null,null,null,null,null,null,null,null,null,null,null,null,null,0]
[null,"/",null,null,null,null,null,null,null,null,null,null,null,null,null,null,null,null,null,null,null,null,null,null,null,null,0]
[null,"/",null,null,null,null,null,null,null,null,null,null,null,null,null,null,null,null,null,null,null,null,null,null,null,null,0]
[null,"/",null,null,null,null,null,null,null,null,null,null,null,null,null,null,null,null,null,null,null,null,null,null,null,null,0]
[null,"/",null,null,null,null,null,null,null,null,null,null,null,null,null,null,null,null,null,null,null,null,null,null,null,null,0]
[null,"/",null,null,null,null,null,null,null,null,null,null,null,null,null,null,null,null,null,null,null,null,null,null,null,null,0]
[null,"/",null,null,null,null,null,null,null,null,null,null,null,null,null,null,null,null,null,null,null,null,null,null,null,null,0]
[null,"/",null,null,null,null,null,null,null,null,null,null,null,null,null,null,null,null,null,null,null,null,null,null,null,null,0]
[null,"/",null,null,null,null,null,null,null,null,null,null,null,null,null,null,null,null,null,null,null,null,null,null,null,null,0,null,null,null,null,null,null,null,null,null,"振込先",null,null,null,null,null,{"$f":"+基本項目!B13","v":0},null,null,null,"銀行",null,{"$f":"+基本項目!B15","v":0},null,null,null,"支店"]
[null,"/",null,null,null,null,null,null,null,null,null,null,null,null,null,null,null,null,null,null,null,null,null,null,null,null,0,null,null,null,null,null,null,null,null,null,"銀行コード",null,null,null,null,null,{"$f":"MID(基本項目!$H$14,1,1)","v":""},{"$f":"MID(基本項目!$H$14,2,1)","v":""},{"$f":"MID(基本項目!$H$14,3,1)","v":""},{"$f":"MID(基本項目!$H$14,4,1)","v":""},"支店コード",null,null,null,null,{"$f":"MID(基本項目!$H$16,1,1)","v":""},{"$f":"MID(基本項目!$H$16,2,1)","v":""},{"$f":"MID(基本項目!$H$16,3,1)","v":""}]
["計",null,null,null,null,null,null,null,null,null,null,null,null,null,null,null,null,null,null,null,null,null,{"$f":"SUM(AA21:AF35)","v":0},null,null,null,null,null,null,null,null,null,null,null,null,null,"種別・番号",null,null,null,null,null,{"$f":"+基本項目!B17","v":0},null,null,null,null,{"$f":"MID(基本項目!$H$18,1,1)","v":""},{"$f":"MID(基本項目!$H$18,2,1)","v":""},{"$f":"MID(基本項目!$H$18,3,1)","v":""},{"$f":"MID(基本項目!$H$18,4,1)","v":""},{"$f":"MID(基本項目!$H$18,5,1)","v":""},{"$f":"MID(基本項目!$H$18,6,1)","v":""},{"$f":"MID(基本項目!$H$18,7,1)","v":""}]
["消　　　費　　　税",null,null,null,null,null,null,null,null,null,null,null,null,null,null,null,null,null,null,8,"%",null,{"$f":"ROUNDDOWN(W36*T37%,0)","v":0},null,null,null,null,null,null,null,null,null,null,null,null,null,"口座名義　　　　　　　　　　（カタカナ）",null,null,null,null,null,{"$f":"MID(基本項目!$B$19,1,1)","v":""},{"$f":"MID(基本項目!$B$19,2,1)","v":""},{"$f":"MID(基本項目!$B$19,3,1)","v":""},{"$f":"MID(基本項目!$B$19,4,1)","v":""},{"$f":"MID(基本項目!$B$19,5,1)","v":""},{"$f":"MID(基本項目!$B$19,6,1)","v":""},{"$f":"MID(基本項目!$B$19,7,1)","v":""},{"$f":"MID(基本項目!$B$19,8,1)","v":""},{"$f":"MID(基本項目!$B$19,9,1)","v":""},{"$f":"MID(基本項目!$B$19,10,1)","v":""},{"$f":"MID(基本項目!$B$19,11,1)","v":""},{"$f":"MID(基本項目!$B$19,12,1)","v":""}]
["合　　　　　　　　計",null,null,null,null,null,null,null,null,null,null,null,null,null,null,null,null,null,null,null,null,null,{"$f":"SUM(W36:AF37)","v":0},null,null,null,null,null,null,null,null,null,null,null,null,null,null,null,null,null,null,null,{"$f":"MID(基本項目!$B$19,13,1)","v":""},{"$f":"MID(基本項目!$B$19,14,1)","v":""},{"$f":"MID(基本項目!$B$19,15,1)","v":""},{"$f":"MID(基本項目!$B$19,16,1)","v":""},{"$f":"MID(基本項目!$B$19,17,1)","v":""},{"$f":"MID(基本項目!$B$19,18,1)","v":""},{"$f":"MID(基本項目!$B$19,19,1)","v":""},{"$f":"MID(基本項目!$B$19,20,1)","v":""},{"$f":"MID(基本項目!$B$19,21,1)","v":""},{"$f":"MID(基本項目!$B$19,22,1)","v":""},{"$f":"MID(基本項目!$B$19,23,1)","v":""},{"$f":"MID(基本項目!$B$19,24,1)","v":""}]
[null,null,null,"※振込手数料・手形郵送料は弊社で負担します。",null,null,null,null,null,null,null,null,null,null,null,null,null,null,null,null,null,null,null,null,null,null,null,null,null,null,null,null,null,null,null,null,null,null,null,null,null,null,null,null,null,null,null,null,null,null,null,null,null,"2018.05.01改訂"]
[null,null,null,null,null,null,null,null,null,null,null,null,null,null,null,null,null,"　請　　求　　書　（　現　場　控　）　"]
[]
[null,null,null,null,null,null,null,null,null,null,null,null,null,null,null,null,null,null,null,null,null,null,{"$f":"+W3","v":"2018-04-20"}]
["株木建設株式会社",null,null,null,null,null,null,{"$f":"+H4","v":0},null,null,null,null,null,"御中",null,null,null,null,null,null,null,null,null,null,null,null,null,null,null,null,null,null,null,null,null,null,"※カブキコードを記入",null,null,null,null,null,"→",{"$f":"MID(基本項目!$H$3,1,1)","v":""},{"$f":"MID(基本項目!$H$3,2,1)","v":""},{"$f":"MID(基本項目!$H$3,3,1)","v":""},{"$f":"MID(基本項目!$H$3,4,1)","v":""},{"$f":"MID(基本項目!$H$3,5,1)","v":""},{"$f":"MID(基本項目!$H$3,6,1)","v":""},{"$f":"MID(基本項目!$H$3,7,1)","v":""},"－",{"$f":"MID(基本項目!$I$3,1,1)","v":"0"},{"$f":"MID(基本項目!$I$3,1,1)","v":"0"},{"$f":"MID(基本項目!$I$3,1,1)","v":"0"}]
[null,null,null,null,null,null,null,null,null,null,null,null,null,null,null,null,null,null,null,null,null,null,null,null,null,null,null,null,null,null,null,null,null,null,null,null,"フ　リ　ガ　ナ",null,null,null,{"$f":"MID(基本項目!$B$6,1,1)","v":""},{"$f":"MID(基本項目!$B$6,2,1)","v":""},{"$f":"MID(基本項目!$B$6,3,1)","v":""},{"$f":"MID(基本項目!$B$6,4,1)","v":""},{"$f":"MID(基本項目!$B$6,5,1)","v":""},{"$f":"MID(基本項目!$B$6,6,1)","v":""},{"$f":"MID(基本項目!$B$6,7,1)","v":""},{"$f":"MID(基本項目!$B$6,8,1)","v":""},{"$f":"MID(基本項目!$B$6,9,1)","v":""},{"$f":"MID(基本項目!$B$6,10,1)","v":""},{"$f":"MID(基本項目!$B$6,11,1)","v":""},{"$f":"MID(基本項目!$B$6,12,1)","v":""},{"$f":"MID(基本項目!$B$6,13,1)","v":""},{"$f":"MID(基本項目!$B$6,14,1)","v":""}]
[null,null,null,null,null,null,null,null,null,null,null,null,null,null,null,null,null,null,null,null,null,null,null,null,null,null,null,null,null,null,null,null,null,null,null,null,null,null,null,null,{"$f":"MID(基本項目!$B$6,15,1)","v":""},{"$f":"MID(基本項目!$B$6,16,1)","v":""},{"$f":"MID(基本項目!$B$6,17,1)","v":""},{"$f":"MID(基本項目!$B$6,18,1)","v":""},{"$f":"MID(基本項目!$B$6,19,1)","v":""},{"$f":"MID(基本項目!$B$6,20,1)","v":""},{"$f":"MID(基本項目!$B$6,21,1)","v":""},{"$f":"MID(基本項目!$B$6,22,1)","v":""},{"$f":"MID(基本項目!$B$6,23,1)","v":""},{"$f":"MID(基本項目!$B$6,24,1)","v":""},{"$f":"MID(基本項目!$B$6,25,1)","v":""},{"$f":"MID(基本項目!$B$6,26,1)","v":""},{"$f":"MID(基本項目!$B$6,27,1)","v":""},{"$f":"MID(基本項目!$B$6,28,1)","v":""}]
["工　事　番　号",null,null,null,null,{"$f":"+F7","v":""},null,null,null,null,null,null,"－",{"$f":"+N7","v":"01"},null,null,null,null,null,null,null,null,null,null,null,null,null,null,null,null,null,null,null,null,null,null,"住所・社名・氏名","〒",{"$f":"MID(基本項目!$H$4,1,1)","v":""},{"$f":"MID(基本項目!$H$4,2,1)","v":""},{"$f":"MID(基本項目!$H$4,3,1)","v":""},"－",{"$f":"MID(基本項目!$I$4,1,1)","v":""},{"$f":"MID(基本項目!$I$4,2,1)","v":""},{"$f":"MID(基本項目!$I$4,3,1)","v":""},{"$f":"MID(基本項目!$I$4,4,1)","v":""}]
[]
[null,null,null,null,null,null,null,null,null,null,null,null,null,null,null,null,null,null,null,null,null,null,null,null,null,null,null,null,null,null,null,null,null,null,null,null,null,null,{"$f":"+基本項目!B5","v":0}]
["工　事　名　称",null,null,null,null,{"$f":"+F10","v":0}]
[null,null,null,null,null,null,null,null,null,null,null,null,null,null,null,null,null,null,null,null,null,null,null,null,null,null,null,null,null,null,null,null,null,null,null,null,null,null,{"$f":"+基本項目!B7","v":0}]
[]
["検印","本　　　支　　　店",null,null,null,null,null,null,null,null,null,null,null,"ＪＶ　（サブ）",null,null,null,null,null,null,"作　　　業　　　所",null,null,null,null,null,null,null,null,null,null,null,"事務担当",null,null,null,null,null,{"$f":"+基本項目!B8","v":0},null,null,null,null,null,{"$f":"+基本項目!B9","v":0},null,null,null,null,null,null,null,"㊞"]
[]
[]
[null,null,null,null,null,null,null,null,null,null,null,null,null,null,null,null,null,null,null,null,null,null,null,null,null,null,null,null,null,null,null,null,null,null,null,null,null,"ＴＥＬ",null,{"$f":"+基本項目!B10","v":0},null,null,"（",{"$f":"+基本項目!D10","v":0},null,null,"）",{"$f":"+基本項目!F10","v":0}]
[null,null,null,null,null,null,null,null,null,null,null,null,null,null,null,null,null,null,null,null,null,null,null,null,null,null,null,null,null,null,null,null,null,null,null,null,null,"ＦＡＸ",null,{"$f":"+基本項目!B11","v":0},null,null,"（",{"$f":"+基本項目!D11","v":0},null,null,"）",{"$f":"+基本項目!F11","v":0}]
[]
[null,null,null,"下　記　の　通　り　請　求　致　し　ま　す　。"]
["月/日",null,null,"品　　　　　名",null,null,null,null,null,null,null,null,null,null,null,null,"数　　量",null,null,null,"単位",null,"単価",null,null,null,"金　　　　　額",null,null,null,null,null,"摘　要"]
[{"$f":"+A21","v":0},"/",{"$f":"+C21","v":0},{"$f":"+D21","v":0},{"$f":"+請求書!E21","v":0},{"$f":"+請求書!F21","v":0},{"$f":"+請求書!G21","v":0},{"$f":"+請求書!H21","v":0},{"$f":"+請求書!I21","v":0},{"$f":"+請求書!J21","v":0},{"$f":"+請求書!K21","v":0},{"$f":"+請求書!L21","v":0},{"$f":"+請求書!M21","v":0},{"$f":"+請求書!N21","v":0},{"$f":"+請求書!O21","v":0},{"$f":"+請求書!P21","v":0},{"$f":"IF(請求書!Q21=0,\" \",Q21)","v":" "},{"$f":"+請求書!R21","v":0},{"$f":"+請求書!S21","v":0},{"$f":"+請求書!T21","v":0},{"$f":"+U21","v":0},{"$f":"+請求書!V21","v":0},{"$f":"IF(請求書!W21=0,\" \",W21)","v":" "},{"$f":"+請求書!X21","v":0},{"$f":"+請求書!Y21","v":0},{"$f":"+請求書!Z21","v":0},{"$f":"+AA21","v":0},{"$f":"+請求書!AB21","v":0},{"$f":"+請求書!AC21","v":0},{"$f":"+請求書!AD21","v":0},{"$f":"+請求書!AE21","v":0},{"$f":"+請求書!AF21","v":0}]
[{"$f":"+請求書!A22","v":0},"/",{"$f":"+請求書!C22","v":0},{"$f":"+D22","v":0},{"$f":"+請求書!E22","v":0},{"$f":"+請求書!F22","v":0},{"$f":"+請求書!G22","v":0},{"$f":"+請求書!H22","v":0},{"$f":"+請求書!I22","v":0},{"$f":"+請求書!J22","v":0},{"$f":"+請求書!K22","v":0},{"$f":"+請求書!L22","v":0},{"$f":"+請求書!M22","v":0},{"$f":"+請求書!N22","v":0},{"$f":"+請求書!O22","v":0},{"$f":"+請求書!P22","v":0},{"$f":"IF(請求書!Q22=0,\" \",Q22)","v":" "},{"$f":"+請求書!R22","v":0},{"$f":"+請求書!S22","v":0},{"$f":"+請求書!T22","v":0},{"$f":"+請求書!U22","v":0},{"$f":"+請求書!V22","v":0},{"$f":"IF(請求書!W22=0,\" \",W22)","v":" "},{"$f":"+請求書!X22","v":0},{"$f":"+請求書!Y22","v":0},{"$f":"+請求書!Z22","v":0},{"$f":"+請求書!AA22","v":0},{"$f":"+請求書!AB22","v":0},{"$f":"+請求書!AC22","v":0},{"$f":"+請求書!AD22","v":0},{"$f":"+請求書!AE22","v":0},{"$f":"+請求書!AF22","v":0}]
[{"$f":"+請求書!A23","v":0},"/",{"$f":"+請求書!C23","v":0},0,{"$f":"+請求書!E23","v":0},{"$f":"+請求書!F23","v":0},{"$f":"+請求書!G23","v":0},{"$f":"+請求書!H23","v":0},{"$f":"+請求書!I23","v":0},{"$f":"+請求書!J23","v":0},{"$f":"+請求書!K23","v":0},{"$f":"+請求書!L23","v":0},{"$f":"+請求書!M23","v":0},{"$f":"+請求書!N23","v":0},{"$f":"+請求書!O23","v":0},{"$f":"+請求書!P23","v":0},{"$f":"IF(請求書!Q23=0,\" \",Q23)","v":" "},{"$f":"+請求書!R23","v":0},{"$f":"+請求書!S23","v":0},{"$f":"+請求書!T23","v":0},{"$f":"+請求書!U23","v":0},{"$f":"+請求書!V23","v":0},{"$f":"IF(請求書!W23=0,\" \",W23)","v":" "},{"$f":"+請求書!X23","v":0},{"$f":"+請求書!Y23","v":0},{"$f":"+請求書!Z23","v":0},{"$f":"+請求書!AA23","v":0},{"$f":"+請求書!AB23","v":0},{"$f":"+請求書!AC23","v":0},{"$f":"+請求書!AD23","v":0},{"$f":"+請求書!AE23","v":0},{"$f":"+請求書!AF23","v":0}]
[{"$f":"+請求書!A24","v":0},"/",{"$f":"+請求書!C24","v":0},0,{"$f":"+請求書!E24","v":0},{"$f":"+請求書!F24","v":0},{"$f":"+請求書!G24","v":0},{"$f":"+請求書!H24","v":0},{"$f":"+請求書!I24","v":0},{"$f":"+請求書!J24","v":0},{"$f":"+請求書!K24","v":0},{"$f":"+請求書!L24","v":0},{"$f":"+請求書!M24","v":0},{"$f":"+請求書!N24","v":0},{"$f":"+請求書!O24","v":0},{"$f":"+請求書!P24","v":0},{"$f":"IF(請求書!Q24=0,\" \",Q24)","v":" "},{"$f":"+請求書!R24","v":0},{"$f":"+請求書!S24","v":0},{"$f":"+請求書!T24","v":0},{"$f":"+請求書!U24","v":0},{"$f":"+請求書!V24","v":0},{"$f":"IF(請求書!W24=0,\" \",W24)","v":" "},{"$f":"+請求書!X24","v":0},{"$f":"+請求書!Y24","v":0},{"$f":"+請求書!Z24","v":0},{"$f":"+請求書!AA24","v":0},{"$f":"+請求書!AB24","v":0},{"$f":"+請求書!AC24","v":0},{"$f":"+請求書!AD24","v":0},{"$f":"+請求書!AE24","v":0},{"$f":"+請求書!AF24","v":0}]
[{"$f":"+請求書!A25","v":0},"/",{"$f":"+請求書!C25","v":0},0,{"$f":"+請求書!E25","v":0},{"$f":"+請求書!F25","v":0},{"$f":"+請求書!G25","v":0},{"$f":"+請求書!H25","v":0},{"$f":"+請求書!I25","v":0},{"$f":"+請求書!J25","v":0},{"$f":"+請求書!K25","v":0},{"$f":"+請求書!L25","v":0},{"$f":"+請求書!M25","v":0},{"$f":"+請求書!N25","v":0},{"$f":"+請求書!O25","v":0},{"$f":"+請求書!P25","v":0},{"$f":"IF(請求書!Q25=0,\" \",Q25)","v":" "},{"$f":"+請求書!R25","v":0},{"$f":"+請求書!S25","v":0},{"$f":"+請求書!T25","v":0},{"$f":"+請求書!U25","v":0},{"$f":"+請求書!V25","v":0},{"$f":"IF(請求書!W25=0,\" \",W25)","v":" "},{"$f":"+請求書!X25","v":0},{"$f":"+請求書!Y25","v":0},{"$f":"+請求書!Z25","v":0},{"$f":"+請求書!AA25","v":0},{"$f":"+請求書!AB25","v":0},{"$f":"+請求書!AC25","v":0},{"$f":"+請求書!AD25","v":0},{"$f":"+請求書!AE25","v":0},{"$f":"+請求書!AF25","v":0}]
[{"$f":"+請求書!A26","v":0},"/",{"$f":"+請求書!C26","v":0},0,{"$f":"+請求書!E26","v":0},{"$f":"+請求書!F26","v":0},{"$f":"+請求書!G26","v":0},{"$f":"+請求書!H26","v":0},{"$f":"+請求書!I26","v":0},{"$f":"+請求書!J26","v":0},{"$f":"+請求書!K26","v":0},{"$f":"+請求書!L26","v":0},{"$f":"+請求書!M26","v":0},{"$f":"+請求書!N26","v":0},{"$f":"+請求書!O26","v":0},{"$f":"+請求書!P26","v":0},{"$f":"IF(請求書!Q26=0,\" \",Q26)","v":" "},{"$f":"+請求書!R26","v":0},{"$f":"+請求書!S26","v":0},{"$f":"+請求書!T26","v":0},{"$f":"+請求書!U26","v":0},{"$f":"+請求書!V26","v":0},{"$f":"IF(請求書!W26=0,\" \",W26)","v":" "},{"$f":"+請求書!X26","v":0},{"$f":"+請求書!Y26","v":0},{"$f":"+請求書!Z26","v":0},{"$f":"+請求書!AA26","v":0},{"$f":"+請求書!AB26","v":0},{"$f":"+請求書!AC26","v":0},{"$f":"+請求書!AD26","v":0},{"$f":"+請求書!AE26","v":0},{"$f":"+請求書!AF26","v":0}]
[{"$f":"+請求書!A27","v":0},"/",{"$f":"+請求書!C27","v":0},0,{"$f":"+請求書!E27","v":0},{"$f":"+請求書!F27","v":0},{"$f":"+請求書!G27","v":0},{"$f":"+請求書!H27","v":0},{"$f":"+請求書!I27","v":0},{"$f":"+請求書!J27","v":0},{"$f":"+請求書!K27","v":0},{"$f":"+請求書!L27","v":0},{"$f":"+請求書!M27","v":0},{"$f":"+請求書!N27","v":0},{"$f":"+請求書!O27","v":0},{"$f":"+請求書!P27","v":0},{"$f":"IF(請求書!Q27=0,\" \",Q27)","v":" "},{"$f":"+請求書!R27","v":0},{"$f":"+請求書!S27","v":0},{"$f":"+請求書!T27","v":0},{"$f":"+請求書!U27","v":0},{"$f":"+請求書!V27","v":0},{"$f":"IF(請求書!W27=0,\" \",W27)","v":" "},{"$f":"+請求書!X27","v":0},{"$f":"+請求書!Y27","v":0},{"$f":"+請求書!Z27","v":0},{"$f":"+請求書!AA27","v":0},{"$f":"+請求書!AB27","v":0},{"$f":"+請求書!AC27","v":0},{"$f":"+請求書!AD27","v":0},{"$f":"+請求書!AE27","v":0},{"$f":"+請求書!AF27","v":0}]
[{"$f":"+請求書!A28","v":0},"/",{"$f":"+請求書!C28","v":0},0,{"$f":"+請求書!E28","v":0},{"$f":"+請求書!F28","v":0},{"$f":"+請求書!G28","v":0},{"$f":"+請求書!H28","v":0},{"$f":"+請求書!I28","v":0},{"$f":"+請求書!J28","v":0},{"$f":"+請求書!K28","v":0},{"$f":"+請求書!L28","v":0},{"$f":"+請求書!M28","v":0},{"$f":"+請求書!N28","v":0},{"$f":"+請求書!O28","v":0},{"$f":"+請求書!P28","v":0},{"$f":"IF(請求書!Q28=0,\" \",Q28)","v":" "},{"$f":"+請求書!R28","v":0},{"$f":"+請求書!S28","v":0},{"$f":"+請求書!T28","v":0},{"$f":"+請求書!U28","v":0},{"$f":"+請求書!V28","v":0},{"$f":"IF(請求書!W28=0,\" \",W28)","v":" "},{"$f":"+請求書!X28","v":0},{"$f":"+請求書!Y28","v":0},{"$f":"+請求書!Z28","v":0},{"$f":"+請求書!AA28","v":0},{"$f":"+請求書!AB28","v":0},{"$f":"+請求書!AC28","v":0},{"$f":"+請求書!AD28","v":0},{"$f":"+請求書!AE28","v":0},{"$f":"+請求書!AF28","v":0}]
[{"$f":"+請求書!A29","v":0},"/",{"$f":"+請求書!C29","v":0},0,{"$f":"+請求書!E29","v":0},{"$f":"+請求書!F29","v":0},{"$f":"+請求書!G29","v":0},{"$f":"+請求書!H29","v":0},{"$f":"+請求書!I29","v":0},{"$f":"+請求書!J29","v":0},{"$f":"+請求書!K29","v":0},{"$f":"+請求書!L29","v":0},{"$f":"+請求書!M29","v":0},{"$f":"+請求書!N29","v":0},{"$f":"+請求書!O29","v":0},{"$f":"+請求書!P29","v":0},{"$f":"IF(請求書!Q29=0,\" \",Q29)","v":" "},{"$f":"+請求書!R29","v":0},{"$f":"+請求書!S29","v":0},{"$f":"+請求書!T29","v":0},{"$f":"+請求書!U29","v":0},{"$f":"+請求書!V29","v":0},{"$f":"IF(請求書!W29=0,\" \",W29)","v":" "},{"$f":"+請求書!X29","v":0},{"$f":"+請求書!Y29","v":0},{"$f":"+請求書!Z29","v":0},{"$f":"+請求書!AA29","v":0},{"$f":"+請求書!AB29","v":0},{"$f":"+請求書!AC29","v":0},{"$f":"+請求書!AD29","v":0},{"$f":"+請求書!AE29","v":0},{"$f":"+請求書!AF29","v":0}]
[{"$f":"+請求書!A30","v":0},"/",{"$f":"+請求書!C30","v":0},0,{"$f":"+請求書!E30","v":0},{"$f":"+請求書!F30","v":0},{"$f":"+請求書!G30","v":0},{"$f":"+請求書!H30","v":0},{"$f":"+請求書!I30","v":0},{"$f":"+請求書!J30","v":0},{"$f":"+請求書!K30","v":0},{"$f":"+請求書!L30","v":0},{"$f":"+請求書!M30","v":0},{"$f":"+請求書!N30","v":0},{"$f":"+請求書!O30","v":0},{"$f":"+請求書!P30","v":0},{"$f":"IF(請求書!Q30=0,\" \",Q30)","v":" "},{"$f":"+請求書!R30","v":0},{"$f":"+請求書!S30","v":0},{"$f":"+請求書!T30","v":0},{"$f":"+請求書!U30","v":0},{"$f":"+請求書!V30","v":0},{"$f":"IF(請求書!W30=0,\" \",W30)","v":" "},{"$f":"+請求書!X30","v":0},{"$f":"+請求書!Y30","v":0},{"$f":"+請求書!Z30","v":0},{"$f":"+請求書!AA30","v":0},{"$f":"+請求書!AB30","v":0},{"$f":"+請求書!AC30","v":0},{"$f":"+請求書!AD30","v":0},{"$f":"+請求書!AE30","v":0},{"$f":"+請求書!AF30","v":0}]
[{"$f":"+請求書!A31","v":0},"/",{"$f":"+請求書!C31","v":0},0,{"$f":"+請求書!E31","v":0},{"$f":"+請求書!F31","v":0},{"$f":"+請求書!G31","v":0},{"$f":"+請求書!H31","v":0},{"$f":"+請求書!I31","v":0},{"$f":"+請求書!J31","v":0},{"$f":"+請求書!K31","v":0},{"$f":"+請求書!L31","v":0},{"$f":"+請求書!M31","v":0},{"$f":"+請求書!N31","v":0},{"$f":"+請求書!O31","v":0},{"$f":"+請求書!P31","v":0},{"$f":"IF(請求書!Q31=0,\" \",Q31)","v":" "},{"$f":"+請求書!R31","v":0},{"$f":"+請求書!S31","v":0},{"$f":"+請求書!T31","v":0},{"$f":"+請求書!U31","v":0},{"$f":"+請求書!V31","v":0},{"$f":"IF(請求書!W31=0,\" \",W31)","v":" "},{"$f":"+請求書!X31","v":0},{"$f":"+請求書!Y31","v":0},{"$f":"+請求書!Z31","v":0},{"$f":"+請求書!AA31","v":0},{"$f":"+請求書!AB31","v":0},{"$f":"+請求書!AC31","v":0},{"$f":"+請求書!AD31","v":0},{"$f":"+請求書!AE31","v":0},{"$f":"+請求書!AF31","v":0}]
[{"$f":"+請求書!A32","v":0},"/",{"$f":"+請求書!C32","v":0},0,{"$f":"+請求書!E32","v":0},{"$f":"+請求書!F32","v":0},{"$f":"+請求書!G32","v":0},{"$f":"+請求書!H32","v":0},{"$f":"+請求書!I32","v":0},{"$f":"+請求書!J32","v":0},{"$f":"+請求書!K32","v":0},{"$f":"+請求書!L32","v":0},{"$f":"+請求書!M32","v":0},{"$f":"+請求書!N32","v":0},{"$f":"+請求書!O32","v":0},{"$f":"+請求書!P32","v":0},{"$f":"IF(請求書!Q32=0,\" \",Q32)","v":" "},{"$f":"+請求書!R32","v":0},{"$f":"+請求書!S32","v":0},{"$f":"+請求書!T32","v":0},{"$f":"+請求書!U32","v":0},{"$f":"+請求書!V32","v":0},{"$f":"IF(請求書!W32=0,\" \",W32)","v":" "},{"$f":"+請求書!X32","v":0},{"$f":"+請求書!Y32","v":0},{"$f":"+請求書!Z32","v":0},{"$f":"+請求書!AA32","v":0},{"$f":"+請求書!AB32","v":0},{"$f":"+請求書!AC32","v":0},{"$f":"+請求書!AD32","v":0},{"$f":"+請求書!AE32","v":0},{"$f":"+請求書!AF32","v":0}]
[{"$f":"+請求書!A33","v":0},"/",{"$f":"+請求書!C33","v":0},0,{"$f":"+請求書!E33","v":0},{"$f":"+請求書!F33","v":0},{"$f":"+請求書!G33","v":0},{"$f":"+請求書!H33","v":0},{"$f":"+請求書!I33","v":0},{"$f":"+請求書!J33","v":0},{"$f":"+請求書!K33","v":0},{"$f":"+請求書!L33","v":0},{"$f":"+請求書!M33","v":0},{"$f":"+請求書!N33","v":0},{"$f":"+請求書!O33","v":0},{"$f":"+請求書!P33","v":0},{"$f":"IF(請求書!Q33=0,\" \",Q33)","v":" "},{"$f":"+請求書!R33","v":0},{"$f":"+請求書!S33","v":0},{"$f":"+請求書!T33","v":0},{"$f":"+請求書!U33","v":0},{"$f":"+請求書!V33","v":0},{"$f":"IF(請求書!W33=0,\" \",W33)","v":" "},{"$f":"+請求書!X33","v":0},{"$f":"+請求書!Y33","v":0},{"$f":"+請求書!Z33","v":0},{"$f":"+請求書!AA33","v":0},{"$f":"+請求書!AB33","v":0},{"$f":"+請求書!AC33","v":0},{"$f":"+請求書!AD33","v":0},{"$f":"+請求書!AE33","v":0},{"$f":"+請求書!AF33","v":0}]
[{"$f":"+請求書!A34","v":0},"/",{"$f":"+請求書!C34","v":0},0,{"$f":"+請求書!E34","v":0},{"$f":"+請求書!F34","v":0},{"$f":"+請求書!G34","v":0},{"$f":"+請求書!H34","v":0},{"$f":"+請求書!I34","v":0},{"$f":"+請求書!J34","v":0},{"$f":"+請求書!K34","v":0},{"$f":"+請求書!L34","v":0},{"$f":"+請求書!M34","v":0},{"$f":"+請求書!N34","v":0},{"$f":"+請求書!O34","v":0},{"$f":"+請求書!P34","v":0},{"$f":"IF(請求書!Q34=0,\" \",Q34)","v":" "},{"$f":"+請求書!R34","v":0},{"$f":"+請求書!S34","v":0},{"$f":"+請求書!T34","v":0},{"$f":"+請求書!U34","v":0},{"$f":"+請求書!V34","v":0},{"$f":"IF(請求書!W34=0,\" \",W34)","v":" "},{"$f":"+請求書!X34","v":0},{"$f":"+請求書!Y34","v":0},{"$f":"+請求書!Z34","v":0},{"$f":"+請求書!AA34","v":0},{"$f":"+請求書!AB34","v":0},{"$f":"+請求書!AC34","v":0},{"$f":"+請求書!AD34","v":0},{"$f":"+請求書!AE34","v":0},{"$f":"+請求書!AF34","v":0},null,null,null,null,"振込先",null,null,null,null,null,{"$f":"+基本項目!B13","v":0},null,null,null,"銀行",null,{"$f":"+基本項目!B15","v":0},null,null,null,"支店"]
[{"$f":"+請求書!A35","v":0},"/",{"$f":"+請求書!C35","v":0},0,{"$f":"+請求書!E35","v":0},{"$f":"+請求書!F35","v":0},{"$f":"+請求書!G35","v":0},{"$f":"+請求書!H35","v":0},{"$f":"+請求書!I35","v":0},{"$f":"+請求書!J35","v":0},{"$f":"+請求書!K35","v":0},{"$f":"+請求書!L35","v":0},{"$f":"+請求書!M35","v":0},{"$f":"+請求書!N35","v":0},{"$f":"+請求書!O35","v":0},{"$f":"+請求書!P35","v":0},{"$f":"IF(請求書!Q35=0,\" \",Q35)","v":" "},{"$f":"+請求書!R35","v":0},{"$f":"+請求書!S35","v":0},{"$f":"+請求書!T35","v":0},{"$f":"+請求書!U35","v":0},{"$f":"+請求書!V35","v":0},{"$f":"IF(請求書!W35=0,\" \",W35)","v":" "},{"$f":"+請求書!X35","v":0},{"$f":"+請求書!Y35","v":0},{"$f":"+請求書!Z35","v":0},{"$f":"+請求書!AA35","v":0},{"$f":"+請求書!AB35","v":0},{"$f":"+請求書!AC35","v":0},{"$f":"+請求書!AD35","v":0},{"$f":"+請求書!AE35","v":0},{"$f":"+請求書!AF35","v":0},null,null,null,null,"銀行コード",null,null,null,null,null,{"$f":"MID(基本項目!$H$14,1,1)","v":""},{"$f":"MID(基本項目!$H$14,2,1)","v":""},{"$f":"MID(基本項目!$H$14,3,1)","v":""},{"$f":"MID(基本項目!$H$14,4,1)","v":""},"支店コード",null,null,null,null,{"$f":"MID(基本項目!$H$16,1,1)","v":""},{"$f":"MID(基本項目!$H$16,2,1)","v":""},{"$f":"MID(基本項目!$H$16,3,1)","v":""}]
["計",null,null,null,null,null,null,null,null,null,null,null,null,null,null,null,null,null,null,null,null,null,{"$f":"+請求書!W36","v":0},{"$f":"+請求書!X36","v":0},{"$f":"+請求書!Y36","v":0},{"$f":"+請求書!Z36","v":0},{"$f":"+請求書!AA36","v":0},{"$f":"+請求書!AB36","v":0},{"$f":"+請求書!AC36","v":0},{"$f":"+請求書!AD36","v":0},{"$f":"+請求書!AE36","v":0},{"$f":"+請求書!AF36","v":0},null,null,null,null,"種別・番号",null,null,null,null,null,{"$f":"+基本項目!B17","v":0},null,null,null,null,{"$f":"MID(基本項目!$H$18,1,1)","v":""},{"$f":"MID(基本項目!$H$18,2,1)","v":""},{"$f":"MID(基本項目!$H$18,3,1)","v":""},{"$f":"MID(基本項目!$H$18,4,1)","v":""},{"$f":"MID(基本項目!$H$18,5,1)","v":""},{"$f":"MID(基本項目!$H$18,6,1)","v":""},{"$f":"MID(基本項目!$H$18,7,1)","v":""}]
["消　　　費　　　税",null,null,null,null,null,null,null,null,null,null,null,null,null,null,null,null,null,null,{"$f":"+T37","v":8},"%",null,{"$f":"+請求書!W37","v":0},{"$f":"+請求書!X37","v":0},{"$f":"+請求書!Y37","v":0},{"$f":"+請求書!Z37","v":0},{"$f":"+請求書!AA37","v":0},{"$f":"+請求書!AB37","v":0},{"$f":"+請求書!AC37","v":0},{"$f":"+請求書!AD37","v":0},{"$f":"+請求書!AE37","v":0},{"$f":"+請求書!AF37","v":0},null,null,null,null,"口座名義　　　　　　　　　　（カタカナ）",null,null,null,null,null,{"$f":"MID(基本項目!$B$19,1,1)","v":""},{"$f":"MID(基本項目!$B$19,2,1)","v":""},{"$f":"MID(基本項目!$B$19,3,1)","v":""},{"$f":"MID(基本項目!$B$19,4,1)","v":""},{"$f":"MID(基本項目!$B$19,5,1)","v":""},{"$f":"MID(基本項目!$B$19,6,1)","v":""},{"$f":"MID(基本項目!$B$19,7,1)","v":""},{"$f":"MID(基本項目!$B$19,8,1)","v":""},{"$f":"MID(基本項目!$B$19,9,1)","v":""},{"$f":"MID(基本項目!$B$19,10,1)","v":""},{"$f":"MID(基本項目!$B$19,11,1)","v":""},{"$f":"MID(基本項目!$B$19,12,1)","v":""}]
["合　　　　　　　　計",null,null,null,null,null,null,null,null,null,null,null,null,null,null,null,null,null,null,null,null,null,{"$f":"+請求書!W38","v":0},{"$f":"+請求書!X38","v":0},{"$f":"+請求書!Y38","v":0},{"$f":"+請求書!Z38","v":0},{"$f":"+請求書!AA38","v":0},{"$f":"+請求書!AB38","v":0},{"$f":"+請求書!AC38","v":0},{"$f":"+請求書!AD38","v":0},{"$f":"+請求書!AE38","v":0},{"$f":"+請求書!AF38","v":0},null,null,null,null,null,null,null,null,null,null,{"$f":"MID(基本項目!$B$19,13,1)","v":""},{"$f":"MID(基本項目!$B$19,14,1)","v":""},{"$f":"MID(基本項目!$B$19,15,1)","v":""},{"$f":"MID(基本項目!$B$19,16,1)","v":""},{"$f":"MID(基本項目!$B$19,17,1)","v":""},{"$f":"MID(基本項目!$B$19,18,1)","v":""},{"$f":"MID(基本項目!$B$19,19,1)","v":""},{"$f":"MID(基本項目!$B$19,20,1)","v":""},{"$f":"MID(基本項目!$B$19,21,1)","v":""},{"$f":"MID(基本項目!$B$19,22,1)","v":""},{"$f":"MID(基本項目!$B$19,23,1)","v":""},{"$f":"MID(基本項目!$B$19,24,1)","v":""}]
[null,null,null,"※振込手数料・手形郵送料は弊社で負担します。",null,null,null,null,null,null,null,null,null,null,null,null,null,null,null,null,null,null,null,null,null,null,null,null,null,null,null,null,null,null,null,null,null,null,null,null,null,null,null,null,null,null,null,null,null,null,null,null,null,{"$f":"+BB39","v":"2018.05.01改訂"}]
[null,null,null,null,null,null,null,null,null,null,null,null,null,null,null,null,null,"　請　　求　　書　（ 本 支 店 用 ）　"]
[]
[null,null,null,null,null,null,null,null,null,null,null,null,null,null,null,null,null,null,null,null,null,null,{"$f":"+請求書!W3:AE3","v":"2018-04-20"}]
["株木建設株式会社",null,null,null,null,null,null,{"$f":"+H4","v":0},null,null,null,null,null,"御中",null,null,null,null,null,null,null,null,null,null,null,null,null,null,null,null,null,null,null,null,null,null,"※カブキコードを記入",null,null,null,null,null,"→",{"$f":"MID(基本項目!$H$3,1,1)","v":""},{"$f":"MID(基本項目!$H$3,2,1)","v":""},{"$f":"MID(基本項目!$H$3,3,1)","v":""},{"$f":"MID(基本項目!$H$3,4,1)","v":""},{"$f":"MID(基本項目!$H$3,5,1)","v":""},{"$f":"MID(基本項目!$H$3,6,1)","v":""},{"$f":"MID(基本項目!$H$3,7,1)","v":""},"－",{"$f":"MID(基本項目!$I$3,1,1)","v":"0"},{"$f":"MID(基本項目!$I$3,1,1)","v":"0"},{"$f":"MID(基本項目!$I$3,1,1)","v":"0"}]
[null,null,null,null,null,null,null,null,null,null,null,null,null,null,null,null,null,null,null,null,null,null,null,null,null,null,null,null,null,null,null,null,null,null,null,null,"フ　リ　ガ　ナ",null,null,null,{"$f":"MID(基本項目!$B$6,1,1)","v":""},{"$f":"MID(基本項目!$B$6,2,1)","v":""},{"$f":"MID(基本項目!$B$6,3,1)","v":""},{"$f":"MID(基本項目!$B$6,4,1)","v":""},{"$f":"MID(基本項目!$B$6,5,1)","v":""},{"$f":"MID(基本項目!$B$6,6,1)","v":""},{"$f":"MID(基本項目!$B$6,7,1)","v":""},{"$f":"MID(基本項目!$B$6,8,1)","v":""},{"$f":"MID(基本項目!$B$6,9,1)","v":""},{"$f":"MID(基本項目!$B$6,10,1)","v":""},{"$f":"MID(基本項目!$B$6,11,1)","v":""},{"$f":"MID(基本項目!$B$6,12,1)","v":""},{"$f":"MID(基本項目!$B$6,13,1)","v":""},{"$f":"MID(基本項目!$B$6,14,1)","v":""}]
[null,null,null,null,null,null,null,null,null,null,null,null,null,null,null,null,null,null,null,null,null,null,null,null,null,null,null,null,null,null,null,null,null,null,null,null,null,null,null,null,{"$f":"MID(基本項目!$B$6,15,1)","v":""},{"$f":"MID(基本項目!$B$6,16,1)","v":""},{"$f":"MID(基本項目!$B$6,17,1)","v":""},{"$f":"MID(基本項目!$B$6,18,1)","v":""},{"$f":"MID(基本項目!$B$6,19,1)","v":""},{"$f":"MID(基本項目!$B$6,20,1)","v":""},{"$f":"MID(基本項目!$B$6,21,1)","v":""},{"$f":"MID(基本項目!$B$6,22,1)","v":""},{"$f":"MID(基本項目!$B$6,23,1)","v":""},{"$f":"MID(基本項目!$B$6,24,1)","v":""},{"$f":"MID(基本項目!$B$6,25,1)","v":""},{"$f":"MID(基本項目!$B$6,26,1)","v":""},{"$f":"MID(基本項目!$B$6,27,1)","v":""},{"$f":"MID(基本項目!$B$6,28,1)","v":""}]
["工　事　番　号",null,null,null,null,{"$f":"+F7","v":""},null,null,null,null,null,null,"－",{"$f":"+N7","v":"01"},null,null,null,null,null,null,null,null,null,null,null,null,null,null,null,null,null,null,null,null,null,null,"住所・社名・氏名","〒",{"$f":"MID(基本項目!$H$4,1,1)","v":""},{"$f":"MID(基本項目!$H$4,2,1)","v":""},{"$f":"MID(基本項目!$H$4,3,1)","v":""},"－",{"$f":"MID(基本項目!$I$4,1,1)","v":""},{"$f":"MID(基本項目!$I$4,2,1)","v":""},{"$f":"MID(基本項目!$I$4,3,1)","v":""},{"$f":"MID(基本項目!$I$4,4,1)","v":""}]
[]
[null,null,null,null,null,null,null,null,null,null,null,null,null,null,null,null,null,null,null,null,null,null,null,null,null,null,null,null,null,null,null,null,null,null,null,null,null,null,{"$f":"+基本項目!B5","v":0}]
["工　事　名　称",null,null,null,null,{"$f":"+F49","v":0}]
[null,null,null,null,null,null,null,null,null,null,null,null,null,null,null,null,null,null,null,null,null,null,null,null,null,null,null,null,null,null,null,null,null,null,null,null,null,null,{"$f":"+基本項目!B7","v":0}]
[]
["検印","本　　　支　　　店",null,null,null,null,null,null,null,null,null,null,null,"ＪＶ　（サブ）",null,null,null,null,null,null,"作　　　業　　　所",null,null,null,null,null,null,null,null,null,null,null,"事務担当",null,null,null,null,null,{"$f":"+基本項目!B8","v":0},null,null,null,null,null,{"$f":"+基本項目!B9","v":0},null,null,null,null,null,null,null,"㊞"]
[]
[]
[null,null,null,null,null,null,null,null,null,null,null,null,null,null,null,null,null,null,null,null,null,null,null,null,null,null,null,null,null,null,null,null,null,null,null,null,null,"ＴＥＬ",null,{"$f":"+基本項目!B10","v":0},null,null,"（",{"$f":"+基本項目!D10","v":0},null,null,"）",{"$f":"+基本項目!F10","v":0}]
[null,null,null,null,null,null,null,null,null,null,null,null,null,null,null,null,null,null,null,null,null,null,null,null,null,null,null,null,null,null,null,null,null,null,null,null,null,"ＦＡＸ",null,{"$f":"+基本項目!B11","v":0},null,null,"（",{"$f":"+基本項目!D11","v":0},null,null,"）",{"$f":"+基本項目!F11","v":0}]
[]
[null,null,null,"下　記　の　通　り　請　求　致　し　ま　す　。"]
["月/日",null,null,"品　　　　　名",null,null,null,null,null,null,null,null,null,null,null,null,"数　　量",null,null,null,"単位",null,"単価",null,null,null,"金　　　　　額",null,null,null,null,null,"摘　要"]
[{"$f":"+請求書!A21","v":0},"/",{"$f":"+請求書!C21","v":0},{"$f":"+請求書!D21","v":0},{"$f":"+請求書!E21","v":0},{"$f":"+請求書!F21","v":0},{"$f":"+請求書!G21","v":0},{"$f":"+請求書!H21","v":0},{"$f":"+請求書!I21","v":0},{"$f":"+請求書!J21","v":0},{"$f":"+請求書!K21","v":0},{"$f":"+請求書!L21","v":0},{"$f":"+請求書!M21","v":0},{"$f":"+請求書!N21","v":0},{"$f":"+請求書!O21","v":0},{"$f":"+請求書!P21","v":0},{"$f":"IF(請求書!Q21=0,\" \",Q21)","v":" "},{"$f":"+請求書!R60","v":0},{"$f":"+請求書!S60","v":0},{"$f":"+請求書!T60","v":0},{"$f":"+U60","v":0},{"$f":"+請求書!V60","v":0},{"$f":"IF(請求書!W21=0,\" \",W21)","v":" "},{"$f":"+請求書!X60","v":0},{"$f":"+請求書!Y60","v":0},{"$f":"+請求書!Z60","v":0},{"$f":"+請求書!AA21","v":0},{"$f":"+請求書!AB21","v":0},{"$f":"+請求書!AC21","v":0},{"$f":"+請求書!AD21","v":0},{"$f":"+請求書!AE21","v":0},{"$f":"+請求書!AF21","v":0}]
[{"$f":"+請求書!A22","v":0},"/",{"$f":"+請求書!C22","v":0},{"$f":"+請求書!D22","v":0},{"$f":"+請求書!E22","v":0},{"$f":"+請求書!F22","v":0},{"$f":"+請求書!G22","v":0},{"$f":"+請求書!H22","v":0},{"$f":"+請求書!I22","v":0},{"$f":"+請求書!J22","v":0},{"$f":"+請求書!K22","v":0},{"$f":"+請求書!L22","v":0},{"$f":"+請求書!M22","v":0},{"$f":"+請求書!N22","v":0},{"$f":"+請求書!O22","v":0},{"$f":"+請求書!P22","v":0},{"$f":"IF(請求書!Q22=0,\" \",Q22)","v":" "},{"$f":"+請求書!R61","v":0},{"$f":"+請求書!S61","v":0},{"$f":"+請求書!T61","v":0},{"$f":"+請求書!U61","v":0},{"$f":"+請求書!V61","v":0},{"$f":"IF(請求書!W22=0,\" \",W22)","v":" "},{"$f":"+請求書!X61","v":0},{"$f":"+請求書!Y61","v":0},{"$f":"+請求書!Z61","v":0},{"$f":"+請求書!AA22","v":0},{"$f":"+請求書!AB22","v":0},{"$f":"+請求書!AC22","v":0},{"$f":"+請求書!AD22","v":0},{"$f":"+請求書!AE22","v":0},{"$f":"+請求書!AF22","v":0}]
[{"$f":"+請求書!A23","v":0},"/",{"$f":"+請求書!C23","v":0},{"$f":"+請求書!D23","v":0},{"$f":"+請求書!E23","v":0},{"$f":"+請求書!F23","v":0},{"$f":"+請求書!G23","v":0},{"$f":"+請求書!H23","v":0},{"$f":"+請求書!I23","v":0},{"$f":"+請求書!J23","v":0},{"$f":"+請求書!K23","v":0},{"$f":"+請求書!L23","v":0},{"$f":"+請求書!M23","v":0},{"$f":"+請求書!N23","v":0},{"$f":"+請求書!O23","v":0},{"$f":"+請求書!P23","v":0},{"$f":"IF(請求書!Q23=0,\" \",Q23)","v":" "},{"$f":"+請求書!R62","v":0},{"$f":"+請求書!S62","v":0},{"$f":"+請求書!T62","v":0},{"$f":"+請求書!U62","v":0},{"$f":"+請求書!V62","v":0},{"$f":"IF(請求書!W23=0,\" \",W23)","v":" "},{"$f":"+請求書!X62","v":0},{"$f":"+請求書!Y62","v":0},{"$f":"+請求書!Z62","v":0},{"$f":"+請求書!AA23","v":0},{"$f":"+請求書!AB23","v":0},{"$f":"+請求書!AC23","v":0},{"$f":"+請求書!AD23","v":0},{"$f":"+請求書!AE23","v":0},{"$f":"+請求書!AF23","v":0}]
[{"$f":"+請求書!A24","v":0},"/",{"$f":"+請求書!C24","v":0},{"$f":"+請求書!D24","v":0},{"$f":"+請求書!E24","v":0},{"$f":"+請求書!F24","v":0},{"$f":"+請求書!G24","v":0},{"$f":"+請求書!H24","v":0},{"$f":"+請求書!I24","v":0},{"$f":"+請求書!J24","v":0},{"$f":"+請求書!K24","v":0},{"$f":"+請求書!L24","v":0},{"$f":"+請求書!M24","v":0},{"$f":"+請求書!N24","v":0},{"$f":"+請求書!O24","v":0},{"$f":"+請求書!P24","v":0},{"$f":"IF(請求書!Q24=0,\" \",Q24)","v":" "},{"$f":"+請求書!R63","v":0},{"$f":"+請求書!S63","v":0},{"$f":"+請求書!T63","v":0},{"$f":"+請求書!U63","v":0},{"$f":"+請求書!V63","v":0},{"$f":"IF(請求書!W24=0,\" \",W24)","v":" "},{"$f":"+請求書!X63","v":0},{"$f":"+請求書!Y63","v":0},{"$f":"+請求書!Z63","v":0},{"$f":"+請求書!AA24","v":0},{"$f":"+請求書!AB24","v":0},{"$f":"+請求書!AC24","v":0},{"$f":"+請求書!AD24","v":0},{"$f":"+請求書!AE24","v":0},{"$f":"+請求書!AF24","v":0}]
[{"$f":"+請求書!A25","v":0},"/",{"$f":"+請求書!C25","v":0},{"$f":"+請求書!D25","v":0},{"$f":"+請求書!E25","v":0},{"$f":"+請求書!F25","v":0},{"$f":"+請求書!G25","v":0},{"$f":"+請求書!H25","v":0},{"$f":"+請求書!I25","v":0},{"$f":"+請求書!J25","v":0},{"$f":"+請求書!K25","v":0},{"$f":"+請求書!L25","v":0},{"$f":"+請求書!M25","v":0},{"$f":"+請求書!N25","v":0},{"$f":"+請求書!O25","v":0},{"$f":"+請求書!P25","v":0},{"$f":"IF(請求書!Q25=0,\" \",Q25)","v":" "},{"$f":"+請求書!R64","v":0},{"$f":"+請求書!S64","v":0},{"$f":"+請求書!T64","v":0},{"$f":"+請求書!U64","v":0},{"$f":"+請求書!V64","v":0},{"$f":"IF(請求書!W25=0,\" \",W25)","v":" "},{"$f":"+請求書!X64","v":0},{"$f":"+請求書!Y64","v":0},{"$f":"+請求書!Z64","v":0},{"$f":"+請求書!AA25","v":0},{"$f":"+請求書!AB25","v":0},{"$f":"+請求書!AC25","v":0},{"$f":"+請求書!AD25","v":0},{"$f":"+請求書!AE25","v":0},{"$f":"+請求書!AF25","v":0}]
[{"$f":"+請求書!A26","v":0},"/",{"$f":"+請求書!C26","v":0},{"$f":"+請求書!D26","v":0},{"$f":"+請求書!E26","v":0},{"$f":"+請求書!F26","v":0},{"$f":"+請求書!G26","v":0},{"$f":"+請求書!H26","v":0},{"$f":"+請求書!I26","v":0},{"$f":"+請求書!J26","v":0},{"$f":"+請求書!K26","v":0},{"$f":"+請求書!L26","v":0},{"$f":"+請求書!M26","v":0},{"$f":"+請求書!N26","v":0},{"$f":"+請求書!O26","v":0},{"$f":"+請求書!P26","v":0},{"$f":"IF(請求書!Q26=0,\" \",Q26)","v":" "},{"$f":"+請求書!R65","v":0},{"$f":"+請求書!S65","v":0},{"$f":"+請求書!T65","v":0},{"$f":"+請求書!U65","v":0},{"$f":"+請求書!V65","v":0},{"$f":"IF(請求書!W26=0,\" \",W26)","v":" "},{"$f":"+請求書!X65","v":0},{"$f":"+請求書!Y65","v":0},{"$f":"+請求書!Z65","v":0},{"$f":"+請求書!AA26","v":0},{"$f":"+請求書!AB26","v":0},{"$f":"+請求書!AC26","v":0},{"$f":"+請求書!AD26","v":0},{"$f":"+請求書!AE26","v":0},{"$f":"+請求書!AF26","v":0}]
[{"$f":"+請求書!A27","v":0},"/",{"$f":"+請求書!C27","v":0},{"$f":"+請求書!D27","v":0},{"$f":"+請求書!E27","v":0},{"$f":"+請求書!F27","v":0},{"$f":"+請求書!G27","v":0},{"$f":"+請求書!H27","v":0},{"$f":"+請求書!I27","v":0},{"$f":"+請求書!J27","v":0},{"$f":"+請求書!K27","v":0},{"$f":"+請求書!L27","v":0},{"$f":"+請求書!M27","v":0},{"$f":"+請求書!N27","v":0},{"$f":"+請求書!O27","v":0},{"$f":"+請求書!P27","v":0},{"$f":"IF(請求書!Q27=0,\" \",Q27)","v":" "},{"$f":"+請求書!R66","v":0},{"$f":"+請求書!S66","v":0},{"$f":"+請求書!T66","v":0},{"$f":"+請求書!U66","v":0},{"$f":"+請求書!V66","v":0},{"$f":"IF(請求書!W27=0,\" \",W27)","v":" "},{"$f":"+請求書!X66","v":0},{"$f":"+請求書!Y66","v":0},{"$f":"+請求書!Z66","v":0},{"$f":"+請求書!AA27","v":0},{"$f":"+請求書!AB27","v":0},{"$f":"+請求書!AC27","v":0},{"$f":"+請求書!AD27","v":0},{"$f":"+請求書!AE27","v":0},{"$f":"+請求書!AF27","v":0}]
[{"$f":"+請求書!A28","v":0},"/",{"$f":"+請求書!C28","v":0},{"$f":"+請求書!D28","v":0},{"$f":"+請求書!E28","v":0},{"$f":"+請求書!F28","v":0},{"$f":"+請求書!G28","v":0},{"$f":"+請求書!H28","v":0},{"$f":"+請求書!I28","v":0},{"$f":"+請求書!J28","v":0},{"$f":"+請求書!K28","v":0},{"$f":"+請求書!L28","v":0},{"$f":"+請求書!M28","v":0},{"$f":"+請求書!N28","v":0},{"$f":"+請求書!O28","v":0},{"$f":"+請求書!P28","v":0},{"$f":"IF(請求書!Q28=0,\" \",Q28)","v":" "},{"$f":"+請求書!R67","v":0},{"$f":"+請求書!S67","v":0},{"$f":"+請求書!T67","v":0},{"$f":"+請求書!U67","v":0},{"$f":"+請求書!V67","v":0},{"$f":"IF(請求書!W28=0,\" \",W28)","v":" "},{"$f":"+請求書!X67","v":0},{"$f":"+請求書!Y67","v":0},{"$f":"+請求書!Z67","v":0},{"$f":"+請求書!AA28","v":0},{"$f":"+請求書!AB28","v":0},{"$f":"+請求書!AC28","v":0},{"$f":"+請求書!AD28","v":0},{"$f":"+請求書!AE28","v":0},{"$f":"+請求書!AF28","v":0}]
[{"$f":"+請求書!A29","v":0},"/",{"$f":"+請求書!C29","v":0},{"$f":"+請求書!D29","v":0},{"$f":"+請求書!E29","v":0},{"$f":"+請求書!F29","v":0},{"$f":"+請求書!G29","v":0},{"$f":"+請求書!H29","v":0},{"$f":"+請求書!I29","v":0},{"$f":"+請求書!J29","v":0},{"$f":"+請求書!K29","v":0},{"$f":"+請求書!L29","v":0},{"$f":"+請求書!M29","v":0},{"$f":"+請求書!N29","v":0},{"$f":"+請求書!O29","v":0},{"$f":"+請求書!P29","v":0},{"$f":"IF(請求書!Q29=0,\" \",Q29)","v":" "},{"$f":"+請求書!R68","v":0},{"$f":"+請求書!S68","v":0},{"$f":"+請求書!T68","v":0},{"$f":"+請求書!U68","v":0},{"$f":"+請求書!V68","v":0},{"$f":"IF(請求書!W29=0,\" \",W29)","v":" "},{"$f":"+請求書!X68","v":0},{"$f":"+請求書!Y68","v":0},{"$f":"+請求書!Z68","v":0},{"$f":"+請求書!AA29","v":0},{"$f":"+請求書!AB29","v":0},{"$f":"+請求書!AC29","v":0},{"$f":"+請求書!AD29","v":0},{"$f":"+請求書!AE29","v":0},{"$f":"+請求書!AF29","v":0}]
[{"$f":"+請求書!A30","v":0},"/",{"$f":"+請求書!C30","v":0},{"$f":"+請求書!D30","v":0},{"$f":"+請求書!E30","v":0},{"$f":"+請求書!F30","v":0},{"$f":"+請求書!G30","v":0},{"$f":"+請求書!H30","v":0},{"$f":"+請求書!I30","v":0},{"$f":"+請求書!J30","v":0},{"$f":"+請求書!K30","v":0},{"$f":"+請求書!L30","v":0},{"$f":"+請求書!M30","v":0},{"$f":"+請求書!N30","v":0},{"$f":"+請求書!O30","v":0},{"$f":"+請求書!P30","v":0},{"$f":"IF(請求書!Q30=0,\" \",Q30)","v":" "},{"$f":"+請求書!R69","v":0},{"$f":"+請求書!S69","v":0},{"$f":"+請求書!T69","v":0},{"$f":"+請求書!U69","v":0},{"$f":"+請求書!V69","v":0},{"$f":"IF(請求書!W30=0,\" \",W30)","v":" "},{"$f":"+請求書!X69","v":0},{"$f":"+請求書!Y69","v":0},{"$f":"+請求書!Z69","v":0},{"$f":"+請求書!AA30","v":0},{"$f":"+請求書!AB30","v":0},{"$f":"+請求書!AC30","v":0},{"$f":"+請求書!AD30","v":0},{"$f":"+請求書!AE30","v":0},{"$f":"+請求書!AF30","v":0}]
[{"$f":"+請求書!A31","v":0},"/",{"$f":"+請求書!C31","v":0},{"$f":"+請求書!D31","v":0},{"$f":"+請求書!E31","v":0},{"$f":"+請求書!F31","v":0},{"$f":"+請求書!G31","v":0},{"$f":"+請求書!H31","v":0},{"$f":"+請求書!I31","v":0},{"$f":"+請求書!J31","v":0},{"$f":"+請求書!K31","v":0},{"$f":"+請求書!L31","v":0},{"$f":"+請求書!M31","v":0},{"$f":"+請求書!N31","v":0},{"$f":"+請求書!O31","v":0},{"$f":"+請求書!P31","v":0},{"$f":"IF(請求書!Q31=0,\" \",Q31)","v":" "},{"$f":"+請求書!R70","v":0},{"$f":"+請求書!S70","v":0},{"$f":"+請求書!T70","v":0},{"$f":"+請求書!U70","v":0},{"$f":"+請求書!V70","v":0},{"$f":"IF(請求書!W31=0,\" \",W31)","v":" "},{"$f":"+請求書!X70","v":0},{"$f":"+請求書!Y70","v":0},{"$f":"+請求書!Z70","v":0},{"$f":"+請求書!AA31","v":0},{"$f":"+請求書!AB31","v":0},{"$f":"+請求書!AC31","v":0},{"$f":"+請求書!AD31","v":0},{"$f":"+請求書!AE31","v":0},{"$f":"+請求書!AF31","v":0}]
[{"$f":"+請求書!A32","v":0},"/",{"$f":"+請求書!C32","v":0},{"$f":"+請求書!D32","v":0},{"$f":"+請求書!E32","v":0},{"$f":"+請求書!F32","v":0},{"$f":"+請求書!G32","v":0},{"$f":"+請求書!H32","v":0},{"$f":"+請求書!I32","v":0},{"$f":"+請求書!J32","v":0},{"$f":"+請求書!K32","v":0},{"$f":"+請求書!L32","v":0},{"$f":"+請求書!M32","v":0},{"$f":"+請求書!N32","v":0},{"$f":"+請求書!O32","v":0},{"$f":"+請求書!P32","v":0},{"$f":"IF(請求書!Q32=0,\" \",Q32)","v":" "},{"$f":"+請求書!R71","v":0},{"$f":"+請求書!S71","v":0},{"$f":"+請求書!T71","v":0},{"$f":"+請求書!U71","v":0},{"$f":"+請求書!V71","v":0},{"$f":"IF(請求書!W32=0,\" \",W32)","v":" "},{"$f":"+請求書!X71","v":0},{"$f":"+請求書!Y71","v":0},{"$f":"+請求書!Z71","v":0},{"$f":"+請求書!AA32","v":0},{"$f":"+請求書!AB32","v":0},{"$f":"+請求書!AC32","v":0},{"$f":"+請求書!AD32","v":0},{"$f":"+請求書!AE32","v":0},{"$f":"+請求書!AF32","v":0}]
[{"$f":"+請求書!A33","v":0},"/",{"$f":"+請求書!C33","v":0},{"$f":"+請求書!D33","v":0},{"$f":"+請求書!E33","v":0},{"$f":"+請求書!F33","v":0},{"$f":"+請求書!G33","v":0},{"$f":"+請求書!H33","v":0},{"$f":"+請求書!I33","v":0},{"$f":"+請求書!J33","v":0},{"$f":"+請求書!K33","v":0},{"$f":"+請求書!L33","v":0},{"$f":"+請求書!M33","v":0},{"$f":"+請求書!N33","v":0},{"$f":"+請求書!O33","v":0},{"$f":"+請求書!P33","v":0},{"$f":"IF(請求書!Q33=0,\" \",Q33)","v":" "},{"$f":"+請求書!R72","v":0},{"$f":"+請求書!S72","v":0},{"$f":"+請求書!T72","v":0},{"$f":"+請求書!U72","v":0},{"$f":"+請求書!V72","v":0},{"$f":"IF(請求書!W33=0,\" \",W33)","v":" "},{"$f":"+請求書!X72","v":0},{"$f":"+請求書!Y72","v":0},{"$f":"+請求書!Z72","v":0},{"$f":"+請求書!AA33","v":0},{"$f":"+請求書!AB33","v":0},{"$f":"+請求書!AC33","v":0},{"$f":"+請求書!AD33","v":0},{"$f":"+請求書!AE33","v":0},{"$f":"+請求書!AF33","v":0}]
[{"$f":"+請求書!A34","v":0},"/",{"$f":"+請求書!C34","v":0},{"$f":"+請求書!D34","v":0},{"$f":"+請求書!E34","v":0},{"$f":"+請求書!F34","v":0},{"$f":"+請求書!G34","v":0},{"$f":"+請求書!H34","v":0},{"$f":"+請求書!I34","v":0},{"$f":"+請求書!J34","v":0},{"$f":"+請求書!K34","v":0},{"$f":"+請求書!L34","v":0},{"$f":"+請求書!M34","v":0},{"$f":"+請求書!N34","v":0},{"$f":"+請求書!O34","v":0},{"$f":"+請求書!P34","v":0},{"$f":"IF(請求書!Q34=0,\" \",Q34)","v":" "},{"$f":"+請求書!R73","v":0},{"$f":"+請求書!S73","v":0},{"$f":"+請求書!T73","v":0},{"$f":"+請求書!U73","v":0},{"$f":"+請求書!V73","v":0},{"$f":"IF(請求書!W34=0,\" \",W34)","v":" "},{"$f":"+請求書!X73","v":0},{"$f":"+請求書!Y73","v":0},{"$f":"+請求書!Z73","v":0},{"$f":"+請求書!AA34","v":0},{"$f":"+請求書!AB34","v":0},{"$f":"+請求書!AC34","v":0},{"$f":"+請求書!AD34","v":0},{"$f":"+請求書!AE34","v":0},{"$f":"+請求書!AF34","v":0},null,null,null,null,"振込先",null,null,null,null,null,{"$f":"+基本項目!B13","v":0},null,null,null,"銀行",null,{"$f":"+基本項目!B15","v":0},null,null,null,"支店"]
[{"$f":"+請求書!A35","v":0},"/",{"$f":"+請求書!C35","v":0},{"$f":"+請求書!D35","v":0},{"$f":"+請求書!E35","v":0},{"$f":"+請求書!F35","v":0},{"$f":"+請求書!G35","v":0},{"$f":"+請求書!H35","v":0},{"$f":"+請求書!I35","v":0},{"$f":"+請求書!J35","v":0},{"$f":"+請求書!K35","v":0},{"$f":"+請求書!L35","v":0},{"$f":"+請求書!M35","v":0},{"$f":"+請求書!N35","v":0},{"$f":"+請求書!O35","v":0},{"$f":"+請求書!P35","v":0},{"$f":"IF(請求書!Q35=0,\" \",Q35)","v":" "},{"$f":"+請求書!R74","v":0},{"$f":"+請求書!S74","v":0},{"$f":"+請求書!T74","v":0},{"$f":"+請求書!U74","v":0},{"$f":"+請求書!V74","v":0},{"$f":"IF(請求書!W35=0,\" \",W35)","v":" "},{"$f":"+請求書!X74","v":0},{"$f":"+請求書!Y74","v":0},{"$f":"+請求書!Z74","v":0},{"$f":"+請求書!AA35","v":0},{"$f":"+請求書!AB35","v":0},{"$f":"+請求書!AC35","v":0},{"$f":"+請求書!AD35","v":0},{"$f":"+請求書!AE35","v":0},{"$f":"+請求書!AF35","v":0},null,null,null,null,"銀行コード",null,null,null,null,null,{"$f":"MID(基本項目!$H$14,1,1)","v":""},{"$f":"MID(基本項目!$H$14,2,1)","v":""},{"$f":"MID(基本項目!$H$14,3,1)","v":""},{"$f":"MID(基本項目!$H$14,4,1)","v":""},"支店コード",null,null,null,null,{"$f":"MID(基本項目!$H$16,1,1)","v":""},{"$f":"MID(基本項目!$H$16,2,1)","v":""},{"$f":"MID(基本項目!$H$16,3,1)","v":""}]
["計",null,null,null,null,null,null,null,null,null,null,null,null,null,null,null,null,null,null,null,null,null,{"$f":"+請求書!W36","v":0},{"$f":"+請求書!X36","v":0},{"$f":"+請求書!Y36","v":0},{"$f":"+請求書!Z36","v":0},{"$f":"+請求書!AA36","v":0},{"$f":"+請求書!AB36","v":0},{"$f":"+請求書!AC36","v":0},{"$f":"+請求書!AD36","v":0},{"$f":"+請求書!AE36","v":0},{"$f":"+請求書!AF36","v":0},null,null,null,null,"種別・番号",null,null,null,null,null,{"$f":"+基本項目!B17","v":0},null,null,null,null,{"$f":"MID(基本項目!$H$18,1,1)","v":""},{"$f":"MID(基本項目!$H$18,2,1)","v":""},{"$f":"MID(基本項目!$H$18,3,1)","v":""},{"$f":"MID(基本項目!$H$18,4,1)","v":""},{"$f":"MID(基本項目!$H$18,5,1)","v":""},{"$f":"MID(基本項目!$H$18,6,1)","v":""},{"$f":"MID(基本項目!$H$18,7,1)","v":""}]
["消　　　費　　　税",null,null,null,null,null,null,null,null,null,null,null,null,null,null,null,null,null,null,{"$f":"+T37","v":8},"%",null,{"$f":"+請求書!W37","v":0},{"$f":"+請求書!X37","v":0},{"$f":"+請求書!Y37","v":0},{"$f":"+請求書!Z37","v":0},{"$f":"+請求書!AA37","v":0},{"$f":"+請求書!AB37","v":0},{"$f":"+請求書!AC37","v":0},{"$f":"+請求書!AD37","v":0},{"$f":"+請求書!AE37","v":0},{"$f":"+請求書!AF37","v":0},null,null,null,null,"口座名義　　　　　　　　　　（カタカナ）",null,null,null,null,null,{"$f":"MID(基本項目!$B$19,1,1)","v":""},{"$f":"MID(基本項目!$B$19,2,1)","v":""},{"$f":"MID(基本項目!$B$19,3,1)","v":""},{"$f":"MID(基本項目!$B$19,4,1)","v":""},{"$f":"MID(基本項目!$B$19,5,1)","v":""},{"$f":"MID(基本項目!$B$19,6,1)","v":""},{"$f":"MID(基本項目!$B$19,7,1)","v":""},{"$f":"MID(基本項目!$B$19,8,1)","v":""},{"$f":"MID(基本項目!$B$19,9,1)","v":""},{"$f":"MID(基本項目!$B$19,10,1)","v":""},{"$f":"MID(基本項目!$B$19,11,1)","v":""},{"$f":"MID(基本項目!$B$19,12,1)","v":""}]
["合　　　　　　　　計",null,null,null,null,null,null,null,null,null,null,null,null,null,null,null,null,null,null,null,null,null,{"$f":"+請求書!W38","v":0},{"$f":"+請求書!X38","v":0},{"$f":"+請求書!Y38","v":0},{"$f":"+請求書!Z38","v":0},{"$f":"+請求書!AA38","v":0},{"$f":"+請求書!AB38","v":0},{"$f":"+請求書!AC38","v":0},{"$f":"+請求書!AD38","v":0},{"$f":"+請求書!AE38","v":0},{"$f":"+請求書!AF38","v":0},null,null,null,null,null,null,null,null,null,null,{"$f":"MID(基本項目!$B$19,13,1)","v":""},{"$f":"MID(基本項目!$B$19,14,1)","v":""},{"$f":"MID(基本項目!$B$19,15,1)","v":""},{"$f":"MID(基本項目!$B$19,16,1)","v":""},{"$f":"MID(基本項目!$B$19,17,1)","v":""},{"$f":"MID(基本項目!$B$19,18,1)","v":""},{"$f":"MID(基本項目!$B$19,19,1)","v":""},{"$f":"MID(基本項目!$B$19,20,1)","v":""},{"$f":"MID(基本項目!$B$19,21,1)","v":""},{"$f":"MID(基本項目!$B$19,22,1)","v":""},{"$f":"MID(基本項目!$B$19,23,1)","v":""},{"$f":"MID(基本項目!$B$19,24,1)","v":""}]
[null,null,null,"※振込手数料・手形郵送料は弊社で負担します。",null,null,null,null,null,null,null,null,null,null,null,null,null,null,null,null,null,null,null,null,null,null,null,null,null,null,null,null,null,null,null,null,null,null,null,null,null,null,null,null,null,null,null,null,null,null,null,null,null,{"$f":"+BB39","v":"2018.05.01改訂"}]

{"sheet":"継続","index":4,"n_rows":34,"n_cols":12,"rows_kept":34,"cut":false,"hidden":false,"merged":[[18,8,18,11],[3,9,3,11],[5,8,5,11],[6,8,6,11],[7,8,7,11],[8,8,8,11],[15,8,15,11],[9,8,9,11],[3,0,3,2],[16,8,16,11],[17,8,17,11],[10,8,10,11],[11,8,11,11],[12,8,12,11],[13,8,13,11],[14,8,14,11],[32,8,32,11],[1,8,1,11],[2,8,2,11],[25,8,25,11],[26,8,26,11],[27,8,27,11],[29,8,29,11],[30,8,30,11],[31,8,31,11],[22,8,22,11],[23,8,23,11],[24,8,24,11],[28,8,28,11],[20,8,20,11],[21,8,21,11],[19,8,19,11]]}
[null,null,null,null,null,null,null,null,"カブキコード",{"$f":"+基本項目!H3","v":""},"－",{"$f":"+基本項目!I3","v":"000"}]
[null,null,null,null,"請 求 内 訳 継 続 用 紙",null,null,null,{"$f":"+基本項目!B5","v":0}]
[null,null,null,null,null,null,null,null,{"$f":"+基本項目!B7","v":0}]
[{"$f":"+基本項目!B21","v":0},null,null,{"$f":"+基本項目!B22","v":0},null,null,null,null,null,"枚中のＰ"]
[]
["月","／","日","品　　　　　名","数　　量","単位","単価","金　　　　　額","摘　要"]
[null,"／",null,null,null,null,null,{"$f":"ROUND(E7*G7,0)","v":0}]
[null,"／",null,null,null,null,null,{"$f":"ROUND(E8*G8,0)","v":0}]
[null,"／",null,null,null,null,null,0]
[null,"／",null,null,null,null,null,0]
[null,"／",null,null,null,null,null,0]
[null,"／",null,null,null,null,null,0]
[null,"／",null,null,null,null,null,0]
[null,"／",null,null,null,null,null,0]
[null,"／",null,null,null,null,null,0]
[null,"／",null,null,null,null,null,0]
[null,"／",null,null,null,null,null,0]
[null,"／",null,null,null,null,null,0]
[null,"／",null,null,null,null,null,0]
[null,"／",null,null,null,null,null,0]
[null,"／",null,null,null,null,null,0]
[null,"／",null,null,null,null,null,0]
[null,"／",null,null,null,null,null,0]
[null,"／",null,null,null,null,null,0]
[null,"／",null,null,null,null,null,0]
[null,"／",null,null,null,null,null,0]
[null,"／",null,null,null,null,null,0]
[null,"／",null,null,null,null,null,0]
[null,"／",null,null,null,null,null,0]
[null,"／",null,null,null,null,null,0]
[null,"／",null,null,null,null,null,0]
[null,"／",null,null,null,null,null,0]
[null,"／",null,"小計",null,null,null,{"$f":"SUM(H7:H32)","v":0}]
[null,null,null,"※継続用紙は３部印刷し、２部提出してください。",null,null,null,null,null,null,null,"株木建設株式会社　2018.05.01改訂"]