{"text_format":"1","workbook":"xlsx","n_sheets":7,"sheets":["注意事項","会則抜粋","記載例1","記載例2","基本項目","請求書","継続"],"not_rendered":{"charts":0,"images":3,"macros":0,"external_links":0,"defined_names":1,"comments":2,"pivot_tables":0},"unopened":[],"bounds":{"document_bytes":16777216,"sheet_cells":100000,"rows_first":2000,"rows_last":500,"rows_between":2000,"halvings":0,"cell_chars":16384,"cell_head_chars":4096},"cells_cut":0,"cells_raw":0,"read":"whole","date_system":"1900"}

{"sheet":"注意事項","index":0,"n_rows":26,"n_cols":45,"rows_kept":26,"cut":false,"hidden":false,"merged":[[0,1,0,23]]}
[null,"注意事項"]
[]
[]
["　弊社との取引に際し、「株木建設株式会社工事下請契約約款」ならびに「個別工事契約約款第７条に基づく災害防止協力会会則(抜粋）」を"]
["ご熟読・ご理解の上、請求関連書類の提出をお願いいたします。"]
[]
[null,"１",null,"”基本項目”シートの白抜き欄を全て入力してください。"]
[]
[null,"２",null,"この請求書は３枚印刷になっております。"]
[null,null,null,"\"請求元控\"を除いた”現場控・本支店用”に捺印の上、担当作業所に提出してください。"]
[]
[null,"３",null,"内訳が不足する場合、別紙”継続”用紙を使用してください。"]
[null,null,null,"請求元において、コンピュータ等の明細書が発行される場合は、そちらを添付していただいても結構です。"]
[]
[null,"４",null,"記載例を参考に入力してください。"]
[]
[null,"５",null,"消費税率が変更になった場合は、税率ごとに請求書を作成してください。"]
[]
[null,"６",null,"初めてこの請求書を使用される方および従来の住所、ＴＥＬ、ＦＡＸ、取引銀行等の変更をされる方は、"]
[null,null,null,"あらかじめ株木建設株式会社指定様式の「取引先登録カード」を提出してください。"]
[]
[]
[null,null,null,"尚、上記のいずれかが記入漏れの場合の請求書は、受け付けられませんので、注意してください。"]
[]
[]
[null,null,null,null,null,null,null,null,null,null,null,null,null,null,null,null,null,null,null,null,null,null,null,null,null,null,null,null,null,null,null,null,null,null,null,null,null,null,null,null,null,null,null,null,"株木建設株式会社"]

{"sheet":"会則抜粋","index":1,"n_rows":15,"n_cols":2,"rows_kept":15,"cut":false,"hidden":false,"merged":[[1,0,1,1],[7,0,7,1],[12,0,14,0]]}
[]
["個別工事契約約款第７条に基づく災害防止協力会会則（抜粋）"]
[]
[]
["①名称・事務所","本会は株木建設災害防止協力会と称し、本部を東京都豊島区高田三丁目３１番５号の株木建設株式会社（以下、「会社」という）内に、支部を会社の茨城本店・東京本店・大阪支店内に置く。"]
["②目的","本会は会社の協力会社と相提携して安全衛生管理活動を推進し、労働災害の防止を図ると共に、発生した業務上災害に対する相互扶助を行うことにより労働者の福祉の向上に寄与することを目的とする。"]
["③会員の資格","本会の会員は、会社と取引関係にある全ての専門工事業者および資機材納入業者とする。"]
["④災害補償金の支給額および受給者"]
[null,"災害補償金の基準額は次の通りとし、受給者は会員およびそれぞれの会社に属する従業員とする。"]
[null,"1）死　　亡　5,000万円"]
[null,"2）後遺障害　5,000万円（1級、2級）　3,500万円（3級）　2,500万円（4級）　1,500万円（5級）"]
[null,"　　　　　 　1,000万円（6級）　 　　  500万円（7級）"]
["⑤会計","本会の事業を行うために要する費用は会費として次の区分により徴収する。なお、会費は毎月の取引高に応じて徴収する。"]
[null,"専門工事業者　出来高金額　 ×　1.2 / 1,000"]
[null,"資機材納入業者　納入金額　　×　0.5 / 1,000"]

{"sheet":"記載例1","index":2,"n_rows":2,"n_cols":2,"rows_kept":2,"cut":false,"hidden":false,"merged":[]}
["記載例　①"]
[null,"請求明細が1ページで収まるときは、全て記載してください。"]

{"sheet":"記載例2","index":3,"n_rows":2,"n_cols":2,"rows_kept":2,"cut":false,"hidden":false,"merged":[]}
["記載例　②"]
[null,"請求明細が1ページで収まらないときは、継続用紙を使用してください。"]

{"sheet":"基本項目","index":4,"n_rows":24,"n_cols":21,"rows_kept":24,"cut":false,"hidden":false,"merged":[[23,1,23,9],[10,1,10,9],[20,1,20,9],[14,1,14,3],[16,1,16,3],[18,1,18,3],[11,3,11,5],[12,3,12,5],[11,7,11,8],[12,7,12,8],[3,1,3,4],[6,1,6,9],[7,1,7,9],[8,1,8,9],[9,1,9,9],[4,3,4,4],[5,3,5,4]]}
["基本項目入力","白抜きの欄を入力してください。"]
["適格請求書発行事業者登録番号",null,"T",null,"-",null,"-",null,"-",null,null,null,"※必須項目　1桁-4桁-4桁-4桁で必ず入力してください。",null,null,null,null,null,{"$f":"IF(F2=\"\",\"\",TEXT(F2,\"0000\"))","v":""},{"$f":"IF(H2=\"\",\"\",TEXT(H2,\"0000\"))","v":""},{"$f":"IF(J2=\"\",\"\",TEXT(J2,\"0000\"))","v":""}]
[]
["提出先・本支店","東京本店",null,null,null,null,null,"※提出先作業所の本支店をプルダウンメニューから選択すること",null,null,null,null,null,null,null,null,null,null,"札幌支店"]
["カブキコード",null,"-",0,null,null,null,"※必ず入力！！",null,null,{"$f":"IF(B5=\"\",\"\",TEXT(B5,\"0000\"))","v":""},{"$f":"IF(D5=\"\",\"\",TEXT(D5,\"000\"))","v":"000"},"不明の場合、現場担当者に確認",null,null,null,null,null,"茨城本店"]
["郵便番号",null,"-",null,null,null,null,null,null,null,{"$f":"IF(B6=\"\",\"\",TEXT(B6,\"000\"))","v":""},{"$f":"IF(D6=\"\",\"\",TEXT(D6,\"0000\"))","v":""},null,null,null,null,null,null,"東京本店"]
["住所",null,null,null,null,null,null,null,null,null,null,null,"※ゴム印を使用する場合は未入力",null,null,null,null,null,"名古屋支店"]
["フリガナ",null,null,null,null,null,null,null,null,null,null,null,null,null,null,null,null,null,"大阪支店"]
["会社名",null,null,null,null,null,null,null,null,null,null,null,"※ゴム印を使用する場合は未入力",null,null,null,null,null,"九州支店"]
["代表者役職名",null,null,null,null,null,null,null,null,null,null,null,"※ゴム印を使用する場合は未入力",null,null,null,null,null,"本社"]
["代表者氏名",null,null,null,null,null,null,null,null,null,null,null,"※ゴム印を使用する場合は未入力"]
["電話番号",null,"-",null,null,null,"-"]
["FAX番号",null,"-",null,null,null,"-"]
["振込先"]
["金融機関名"]
["銀行コード",null,null,null,null,null,null,"４桁の銀行コードを入力",null,null,{"$f":"IF(B16=\"\",\"\",TEXT(B16,\"0000\"))","v":""}]
["支店名"]
["支店コード",null,null,null,null,null,null,"３桁の支店コードを入力",null,null,{"$f":"IF(B18=\"\",\"\",TEXT(B18,\"000\"))","v":""}]
["預金種別"]
["口座番号",null,null,null,null,null,null,"７桁の口座番号を入力",null,null,{"$f":"IF(B20=\"\",\"\",TEXT(B20,\"0000000\"))","v":""}]
["口座名義(カタカナ)"]
[]
["工事番号",null,"-",1,null,null,null,null,null,null,{"$f":"IF(B23=\"\",\"\",TEXT(B23,\"0000000\"))","v":""},{"$f":"TEXT(D23,\"00\")","v":"01"},"※工事番号　【\"K\"又は\"J\"で始まる７桁の番号(例）K4386001】"]
["工事名称",null,null,null,null,null,null,null,null,null,null,null,"　　及び工事名称は現場担当者に確認すること"]

{"sheet":"請求書","index":5,"n_rows":117,"n_cols":54,"rows_kept":117,"cut":false,"hidden":false,"merged":[[32,46,32,50],[26,32,26,34],[27,32,27,34],[28,32,28,34],[29,32,29,34],[33,42,33,46],[32,36,32,41],[30,32,30,34],[31,32,31,34],[32,32,32,34],[33,32,33,34],[31,36,31,41],[31,42,31,47],[31,48,31,53],[20,32,20,34],[21,32,21,34],[32,26,32,31],[25,26,25,31],[26,26,26,31],[27,26,27,31],[28,26,28,31],[29,26,29,31],[30,26,30,31],[22,32,22,34],[23,32,23,34],[24,32,24,34],[25,32,25,34],[22,20,22,21],[32,22,32,25],[31,20,31,21],[32,20,32,21],[21,22,21,25],[22,22,22,25],[23,22,23,25],[24,22,24,25],[25,22,25,25],[20,20,20,21],[21,3,21,15],[20,3,20,15],[21,20,21,21],[33,0,33,17],[30,3,30,15],[31,3,31,15],[24,3,24,15],[25,3,25,15],[26,3,26,15],[27,3,27,15],[30,20,30,21],[31,16,31,19],[25,20,25,21],[26,20,26,21],[28,3,28,15],[29,3,29,15],[27,20,27,21],[28,20,28,21],[29,20,29,21],[26,16,26,19],[20,16,20,19],[21,16,21,19],[32,16,32,19],[23,3,23,15],[33,36,33,41],[34,36,35,41],[33,22,33,31],[34,22,34,31],[35,22,35,31],[21,26,21,31],[22,26,22,31],[23,26,23,31],[22,16,22,19],[23,16,23,19],[32,3,32,15],[24,26,24,31],[31,26,31,31],[29,22,29,25],[30,22,30,25],[31,22,31,25],[28,22,28,25],[27,16,27,19],[28,16,28,19],[29,16,29,19],[30,16,30,19],[24,16,24,19],[25,16,25,19],[0,17,0,33],[19,26,19,31],[9,0,10,4],[19,3,19,15],[19,0,19,2],[19,16,19,19],[6,5,7,11],[6,13,7,14],[19,20,19,21],[19,22,19,25],[19,32,19,34],[2,22,2,30],[6,0,7,4],[6,12,7,12],[3,7,3,11],[9,6,10,29],[52,32,55,34],[52,1,55,12],[6,36,16,36],[10,38,10,52],[12,38,13,42],[12,44,13,51],[12,52,13,53],[4,36,5,39],[15,43,15,45],[16,43,16,45],[15,47,15,50],[16,47,16,50],[15,39,15,41],[16,39,16,41],[7,38,9,52],[23,20,23,21],[24,20,24,21],[26,22,26,25],[27,22,27,25],[34,32,34,34],[35,32,35,34],[20,22,20,25],[20,26,20,31],[22,3,22,15],[51,32,51,34],[52,13,55,19],[51,20,51,31],[51,0,55,0],[39,17,39,33],[41,22,41,30],[43,36,44,39],[45,0,46,4],[45,5,46,11],[45,12,46,12],[45,13,46,14],[45,36,55,36],[47,38,47,52],[48,0,49,4],[54,39,54,41],[54,43,54,45],[54,47,54,50],[55,39,55,41],[55,43,55,45],[55,47,55,50],[49,38,49,52],[51,38,52,42],[51,44,52,51],[51,52,52,53],[58,32,58,34],[59,3,59,15],[59,16,59,19],[59,20,59,21],[59,22,59,25],[59,26,59,31],[59,32,59,34],[58,0,58,2],[58,3,58,15],[58,16,58,19],[58,20,58,21],[58,22,58,25],[58,26,58,31],[60,3,60,15],[60,16,60,19],[61,3,61,15],[61,16,61,19],[61,20,61,21],[61,22,61,25],[60,20,60,21],[60,22,60,25],[51,13,51,19],[51,1,51,12],[52,20,55,22],[52,23,55,31],[71,46,71,50],[68,22,68,25],[66,26,66,31],[62,32,62,34],[63,26,63,31],[63,32,63,34],[65,26,65,31],[65,32,65,34],[62,3,62,15],[62,16,62,19],[62,20,62,21],[62,22,62,25],[64,26,64,31],[64,32,64,34],[63,3,63,15],[63,16,63,19],[63,20,63,21],[63,22,63,25],[64,3,64,15],[64,16,64,19],[65,3,65,15],[65,16,65,19],[65,20,65,21],[65,22,65,25],[70,36,70,41],[71,3,71,15],[71,16,71,19],[71,20,71,21],[71,22,71,25],[71,26,71,31],[70,3,70,15],[70,16,70,19],[70,20,70,21],[70,22,70,25],[70,26,70,31],[70,32,70,34],[71,32,71,34],[71,36,71,41],[72,36,72,41],[72,42,72,46],[78,17,78,33],[80,22,80,30],[82,36,83,39],[72,0,72,17],[74,0,74,17],[73,22,73,31],[73,32,73,34],[73,36,74,41],[74,22,74,31],[74,32,74,34],[84,36,94,36],[86,38,86,52],[87,0,88,4],[93,39,93,41],[93,43,93,45],[93,47,93,50],[94,39,94,41],[94,43,94,45],[94,47,94,50],[88,38,88,52],[90,38,91,42],[90,44,91,51],[90,52,91,53],[90,20,90,31],[91,13,94,19],[90,13,90,19],[90,1,90,12],[90,32,90,34],[91,20,94,22],[91,23,94,31],[91,32,94,34],[90,0,94,0],[91,1,94,12],[87,6,88,29],[97,32,97,34],[98,3,98,15],[98,16,98,19],[98,20,98,21],[98,22,98,25],[98,26,98,31],[98,32,98,34],[97,0,97,2],[97,3,97,15],[97,16,97,19],[97,20,97,21],[97,22,97,25],[97,26,97,31],[100,26,100,31],[100,32,100,34],[99,26,99,31],[99,32,99,34],[99,3,99,15],[99,16,99,19],[100,3,100,15],[100,16,100,19],[100,20,100,21],[100,22,100,25],[99,20,99,21],[99,22,99,25],[103,32,103,34],[102,3,102,15],[102,16,102,19],[102,20,102,21],[102,22,102,25],[103,3,103,15],[103,16,103,19],[101,32,101,34],[102,26,102,31],[102,32,102,34],[103,20,103,21],[103,22,103,25],[101,26,101,31],[104,3,104,15],[104,16,104,19],[104,20,104,21],[104,22,104,25],[101,3,101,15],[101,16,101,19],[101,20,101,21],[101,22,101,25],[103,26,103,31],[111,42,111,46],[104,26,104,31],[104,32,104,34],[105,16,105,19],[105,20,105,21],[105,22,105,25],[107,26,107,31],[107,32,107,34],[109,32,109,34],[110,32,110,34],[110,36,110,41],[110,46,110,50],[106,16,106,19],[106,20,106,21],[106,22,106,25],[107,20,107,21],[113,0,113,17],[109,36,109,41],[112,36,113,41],[113,22,113,31],[113,32,113,34],[110,3,110,15],[110,16,110,19],[110,20,110,21],[110,22,110,25],[110,26,110,31],[109,3,109,15],[109,16,109,19],[109,20,109,21],[109,22,109,25],[109,26,109,31],[112,0,112,17],[111,22,111,31],[111,32,111,34],[111,36,111,41],[112,22,112,31],[112,32,112,34],[84,13,85,14],[72,22,72,31],[72,32,72,34],[67,20,67,21],[42,7,42,11],[48,6,49,29],[68,32,68,34],[67,3,67,15],[67,16,67,19],[67,22,67,25],[68,3,68,15],[68,16,68,19],[69,3,69,15],[69,16,69,19],[69,20,69,21],[69,22,69,25],[68,20,68,21],[64,20,64,21],[64,22,64,25],[62,26,62,31],[61,26,61,31],[61,32,61,34],[60,26,60,31],[60,32,60,34],[107,3,107,15],[107,16,107,19],[108,3,108,15],[111,0,111,17],[107,22,107,25],[105,26,105,31],[105,32,105,34],[106,26,106,31],[106,32,106,34],[108,26,108,31],[108,32,108,34],[105,3,105,15],[108,16,108,19],[108,20,108,21],[108,22,108,25],[106,3,106,15],[70,42,70,47],[70,48,70,53],[109,42,109,47],[109,48,109,53],[0,45,0,53],[39,45,39,53],[78,45,78,53],[34,0,34,17],[73,0,73,17],[81,7,81,11],[66,32,66,34],[67,26,67,31],[67,32,67,34],[69,26,69,31],[69,32,69,34],[66,3,66,15],[66,16,66,19],[66,20,66,21],[66,22,66,25],[68,26,68,31],[35,0,35,17],[84,0,85,4],[84,5,85,11],[84,12,85,12]]}
[null,null,null,null,null,null,null,null,null,null,null,null,null,null,null,null,null,"　請　　求　　書　（　請 求 元 控　）　",null,null,null,null,null,null,null,null,null,null,null,null,null,null,null,null,null,null,null,null,null,null,null,null,null,null,null,"　　　　枚中のP　　　"]
[]
[null,null,null,null,null,null,null,null,null,null,null,null,null,null,null,null,null,null,null,null,null,"請求年月日　BC1-","2023-06-20"]
["株木建設株式会社",null,null,null,null,null,null,{"$f":"+基本項目!B4","v":"東京本店"},null,null,null,null,null,"御中",null,null,null,null,null,null,null,null,null,null,null,null,null,null,null,null,null,null,null,null,null,null,"※カブキコード→",null,null,null,null,"BC4-",null,{"$f":"MID(基本項目!$K$5,1,1)","v":""},{"$f":"MID(基本項目!$K$5,2,1)","v":""},{"$f":"MID(基本項目!$K$5,3,1)","v":""},{"$f":"MID(基本項目!$K$5,4,1)","v":""},{"$f":"MID(基本項目!$K$5,5,1)","v":""},{"$f":"MID(基本項目!$K$5,6,1)","v":""},{"$f":"MID(基本項目!$K$5,7,1)","v":""},"－",{"$f":"MID(基本項目!$L$5,1,1)","v":"0"},{"$f":"MID(基本項目!$L$5,1,1)","v":"0"},{"$f":"MID(基本項目!$L$5,1,1)","v":"0"}]
[null,null,null,null,null,null,null,null,null,null,null,null,null,null,null,null,null,null,null,null,null,null,null,null,null,null,null,null,null,null,null,null,null,null,null,null,"フ　リ　ガ　ナ",null,null,null,{"$f":"MID(基本項目!$B$8,1,1)","v":""},{"$f":"MID(基本項目!$B$8,2,1)","v":""},{"$f":"MID(基本項目!$B$8,3,1)","v":""},{"$f":"MID(基本項目!$B$8,4,1)","v":""},{"$f":"MID(基本項目!$B$8,5,1)","v":""},{"$f":"MID(基本項目!$B$8,6,1)","v":""},{"$f":"MID(基本項目!$B$8,7,1)","v":""},{"$f":"MID(基本項目!$B$8,8,1)","v":""},{"$f":"MID(基本項目!$B$8,9,1)","v":""},{"$f":"MID(基本項目!$B$8,10,1)","v":""},{"$f":"MID(基本項目!$B$8,11,1)","v":""},{"$f":"MID(基本項目!$B$8,12,1)","v":""},{"$f":"MID(基本項目!$B$8,13,1)","v":""},{"$f":"MID(基本項目!$B$8,14,1)","v":""}]
[null,null,null,null,null,null,null,null,null,null,null,null,null,null,null,null,null,null,null,null,null,null,null,null,null,null,null,null,null,null,null,null,null,null,null,null,null,null,null,null,{"$f":"MID(基本項目!$B$8,15,1)","v":""},{"$f":"MID(基本項目!$B$8,16,1)","v":""},{"$f":"MID(基本項目!$B$8,17,1)","v":""},{"$f":"MID(基本項目!$B$8,18,1)","v":""},{"$f":"MID(基本項目!$B$8,19,1)","v":""},{"$f":"MID(基本項目!$B$8,20,1)","v":""},{"$f":"MID(基本項目!$B$8,21,1)","v":""},{"$f":"MID(基本項目!$B$8,22,1)","v":""},{"$f":"MID(基本項目!$B$8,23,1)","v":""},{"$f":"MID(基本項目!$B$8,24,1)","v":""},{"$f":"MID(基本項目!$B$8,25,1)","v":""},{"$f":"MID(基本項目!$B$8,26,1)","v":""},{"$f":"MID(基本項目!$B$8,27,1)","v":""},{"$f":"MID(基本項目!$B$8,28,1)","v":""}]
["工事番号　BC2-",null,null,null,null,{"$f":"基本項目!K23","v":""},null,null,null,null,null,null,"－",{"$f":"基本項目!L23","v":"01"},null,null,null,null,null,null,null,null,null,null,null,null,null,null,null,null,null,null,null,null,null,null,"住所・社名・氏名","〒",{"$f":"MID(基本項目!$K$6,1,1)","v":""},{"$f":"MID(基本項目!$K$6,2,1)","v":""},{"$f":"MID(基本項目!$K$6,3,1)","v":""},"－",{"$f":"MID(基本項目!$L$6,1,1)","v":""},{"$f":"MID(基本項目!$L$6,2,1)","v":""},{"$f":"MID(基本項目!$L$6,3,1)","v":""},{"$f":"MID(基本項目!$L$6,4,1)","v":""}]
[null,null,null,null,null,null,null,null,null,null,null,null,null,null,null,null,null,null,null,null,null,null,null,null,null,null,null,null,null,null,null,null,null,null,null,null,null,null,{"$f":"+基本項目!B7","v":0}]
[]
["工　事　名　称",null,null,null,null,null,{"$f":"+基本項目!B24","v":0}]
[null,null,null,null,null,null,null,null,null,null,null,null,null,null,null,null,null,null,null,null,null,null,null,null,null,null,null,null,null,null,null,null,null,null,null,null,null,null,{"$f":"+基本項目!B9","v":0}]
[]
[null,null,null,null,null,null,null,null,null,null,null,null,null,null,null,null,null,null,null,null,null,null,null,null,null,null,null,null,null,null,null,null,null,null,null,null,null,null,{"$f":"+基本項目!B10","v":0},null,null,null,null,null,{"$f":"+基本項目!B11","v":0},null,null,null,null,null,null,null,"㊞"]
[]
[]
[null,null,null,null,null,null,null,null,null,null,null,null,null,null,null,null,null,null,null,null,null,null,null,null,null,null,null,null,null,null,null,null,null,null,null,null,null,"ＴＥＬ",null,{"$f":"+基本項目!B12","v":0},null,null,"（",{"$f":"+基本項目!D12","v":0},null,null,"）",{"$f":"+基本項目!H12","v":0}]
[null,null,null,null,null,null,null,null,null,null,null,null,null,null,null,null,null,null,null,null,null,null,null,null,null,null,null,null,null,null,null,null,null,null,null,null,null,"ＦＡＸ",null,{"$f":"+基本項目!B13","v":0},null,null,"（",{"$f":"+基本項目!D13","v":0},null,null,"）",{"$f":"+基本項目!H13","v":0}]
[]
[null,null,null,"下　記　の　通　り　請　求　致　し　ま　す　。",null,null,null,null,null,null,null,null,null,null,null,null,null,null,null,null,null,null,null,null,null,null,null,null,null,null,null,null,null,null,null,null,"適格請求書発行事業者登録番号"]
["月/日",null,null,"品　　　　　名",null,null,null,null,null,null,null,null,null,null,null,null,"数　　量",null,null,null,"単位",null,"単価",null,null,null,"金　　　　　額",null,null,null,null,null,"摘　要",null,null,null,null,"T",{"$f":"MID(基本項目!$D$2,1,1)","v":""},"－",{"$f":"MID(基本項目!$S$2,1,1)","v":""},{"$f":"MID(基本項目!$S$2,2,1)","v":""},{"$f":"MID(基本項目!$S$2,3,1)","v":""},{"$f":"MID(基本項目!$S$2,4,1)","v":""},"－",{"$f":"MID(基本項目!$T$2,1,1)","v":""},{"$f":"MID(基本項目!$T$2,2,1)","v":""},{"$f":"MID(基本項目!$T$2,3,1)","v":""},{"$f":"MID(基本項目!$T$2,4,1)","v":""},"－",{"$f":"MID(基本項目!$U$2,1,1)","v":""},{"$f":"MID(基本項目!$U$2,2,1)","v":""},{"$f":"MID(基本項目!$U$2,3,1)","v":""},{"$f":"MID(基本項目!$U$2,4,1)","v":""}]
[null,"/",null,null,null,null,null,null,null,null,null,null,null,null,null,null,null,null,null,null,null,null,null,null,null,null,{"$f":"ROUND(Q21*W21,0)","v":0}]
[null,"/",null,null,null,null,null,null,null,null,null,null,null,null,null,null,null,null,null,null,null,null,null,null,null,null,{"$f":"ROUND(Q22*W22,0)","v":0}]
[null,"/",null,null,null,null,null,null,null,null,null,null,null,null,null,null,null,null,null,null,null,null,null,null,null,null,{"$f":"ROUND(Q23*W23,0)","v":0}]
[null,"/",null,null,null,null,null,null,null,null,null,null,null,null,null,null,null,null,null,null,null,null,null,null,null,null,0]
[null,"/",null,null,null,null,null,null,null,null,null,null,null,null,null,null,null,null,null,null,null,null,null,null,null,null,0]
[null,"/",null,null,null,null,null,null,null,null,null,null,null,null,null,null,null,null,null,null,null,null,null,null,null,null,0]
[null,"/",null,null,null,null,null,null,null,null,null,null,null,null,null,null,null,null,null,null,null,null,null,null,null,null,0]
[null,"/",null,null,null,null,null,null,null,null,null,null,null,null,null,null,null,null,null,null,null,null,null,null,null,null,0]
[null,"/",null,null,null,null,null,null,null,null,null,null,null,null,null,null,null,null,null,null,null,null,null,null,null,null,0]
[null,"/",null,null,null,null,null,null,null,null,null,null,null,null,null,null,null,null,null,null,null,null,null,null,null,null,0]
[null,"/",null,null,null,null,null,null,null,null,null,null,null,null,null,null,null,null,null,null,null,null,null,null,null,null,0]
[null,"/",null,null,null,null,null,null,null,null,null,null,null,null,null,null,null,null,null,null,null,null,null,null,null,null,0,null,null,null,null,null,null,null,null,null,"振込先",null,null,null,null,null,{"$f":"+基本項目!B15","v":0},null,null,null,null,null,{"$f":"+基本項目!B17","v":0}]
[null,"/",null,null,null,null,null,null,null,null,null,null,null,null,null,null,null,null,null,null,null,null,null,null,null,null,0,null,null,null,null,null,null,null,null,null,"銀行コード",null,null,null,null,null,{"$f":"MID(基本項目!$K$16,1,1)","v":""},{"$f":"MID(基本項目!$K$16,2,1)","v":""},{"$f":"MID(基本項目!$K$16,3,1)","v":""},{"$f":"MID(基本項目!$K$16,4,1)","v":""},"支店コード",null,null,null,null,{"$f":"MID(基本項目!$K$18,1,1)","v":""},{"$f":"MID(基本項目!$K$18,2,1)","v":""},{"$f":"MID(基本項目!$K$18,3,1)","v":""}]
["計",null,null,null,null,null,null,null,null,null,null,null,null,null,null,null,null,null,null,null,null,null,{"$f":"SUM(AA21:AF33)","v":0},null,null,null,null,null,null,null,null,null,null,null,null,null,"種別・番号",null,null,null,null,null,{"$f":"+基本項目!B19","v":0},null,null,null,null,{"$f":"MID(基本項目!$K$20,1,1)","v":""},{"$f":"MID(基本項目!$K$20,2,1)","v":""},{"$f":"MID(基本項目!$K$20,3,1)","v":""},{"$f":"MID(基本項目!$K$20,4,1)","v":""},{"$f":"MID(基本項目!$K$20,5,1)","v":""},{"$f":"MID(基本項目!$K$20,6,1)","v":""},{"$f":"MID(基本項目!$K$20,7,1)","v":""}]
["消　　　費　　　税",null,null,null,null,null,null,null,null,null,null,null,null,null,null,null,null,null,null,10,"%",null,{"$f":"ROUNDDOWN(W34*T35%,0)","v":0},null,null,null,null,null,null,null,null,null,null,null,null,null,"口座名義　　　　　　　　　　（カタカナ）",null,null,null,null,null,{"$f":"MID(基本項目!$B$21,1,1)","v":""},{"$f":"MID(基本項目!$B$21,2,1)","v":""},{"$f":"MID(基本項目!$B$21,3,1)","v":""},{"$f":"MID(基本項目!$B$21,4,1)","v":""},{"$f":"MID(基本項目!$B$21,5,1)","v":""},{"$f":"MID(基本項目!$B$21,6,1)","v":""},{"$f":"MID(基本項目!$B$21,7,1)","v":""},{"$f":"MID(基本項目!$B$21,8,1)","v":""},{"$f":"MID(基本項目!$B$21,9,1)","v":""},{"$f":"MID(基本項目!$B$21,10,1)","v":""},{"$f":"MID(基本項目!$B$21,11,1)","v":""},{"$f":"MID(基本項目!$B$21,12,1)","v":""}]
["合　　　　　　　　計",null,null,null,null,null,null,null,null,null,null,null,null,null,null,null,null,null,null,null,null,null,{"$f":"SUM(W34:AF35)","v":0},null,null,null,null,null,null,null,null,null,null,null,null,null,null,null,null,null,null,null,{"$f":"MID(基本項目!$B$21,13,1)","v":""},{"$f":"MID(基本項目!$B$21,14,1)","v":""},{"$f":"MID(基本項目!$B$21,15,1)","v":""},{"$f":"MID(基本項目!$B$21,16,1)","v":""},{"$f":"MID(基本項目!$B$21,17,1)","v":""},{"$f":"MID(基本項目!$B$21,18,1)","v":""},{"$f":"MID(基本項目!$B$21,19,1)","v":""},{"$f":"MID(基本項目!$B$21,20,1)","v":""},{"$f":"MID(基本項目!$B$21,21,1)","v":""},{"$f":"MID(基本項目!$B$21,22,1)","v":""},{"$f":"MID(基本項目!$B$21,23,1)","v":""},{"$f":"MID(基本項目!$B$21,24,1)","v":""}]
[null,null,null,"本取引に関し株木建設株式会社契約約款等を理解・承諾し、請求行為を行っています。"]
[null,null,null,"本請求に依る債権は、株木建設株式会社の書面による承諾なしに第三者へ譲渡しません。"]
[null,null,null,"事務取扱手数料は、請求元で負担します。",null,null,null,null,null,null,null,null,null,null,null,null,null,null,null,null,null,null,null,null,null,null,null,null,null,null,null,null,null,null,null,null,null,null,null,null,null,null,null,null,null,null,null,null,null,null,null,null,null,"2023.06.01改訂"]
[null,null,null,null,null,null,null,null,null,null,null,null,null,null,null,null,null,"　請　　求　　書　（　現　場　控　）　",null,null,null,null,null,null,null,null,null,null,null,null,null,null,null,null,null,null,null,null,null,null,null,null,null,null,null,{"$f":"+AT1","v":"　　　　枚中のP　　　"}]
[]
[null,null,null,null,null,null,null,null,null,null,null,null,null,null,null,null,null,null,null,null,null,"請求年月日　BC1-",{"$f":"+W3","v":"2023-06-20"}]
["株木建設株式会社",null,null,null,null,null,null,{"$f":"+H4","v":"東京本店"},null,null,null,null,null,"御中",null,null,null,null,null,null,null,null,null,null,null,null,null,null,null,null,null,null,null,null,null,null,"※カブキコード→",null,null,null,null,"BC4-",null,{"$f":"MID(基本項目!$K$5,1,1)","v":""},{"$f":"MID(基本項目!$K$5,2,1)","v":""},{"$f":"MID(基本項目!$K$5,3,1)","v":""},{"$f":"MID(基本項目!$K$5,4,1)","v":""},{"$f":"MID(基本項目!$K$5,5,1)","v":""},{"$f":"MID(基本項目!$K$5,6,1)","v":""},{"$f":"MID(基本項目!$K$5,7,1)","v":""},"－",{"$f":"MID(基本項目!$L$5,1,1)","v":"0"},{"$f":"MID(基本項目!$L$5,1,1)","v":"0"},{"$f":"MID(基本項目!$L$5,1,1)","v":"0"}]
[null,null,null,null,null,null,null,null,null,null,null,null,null,null,null,null,null,null,null,null,null,null,null,null,null,null,null,null,null,null,null,null,null,null,null,null,"フ　リ　ガ　ナ",null,null,null,{"$f":"MID(基本項目!$B$8,1,1)","v":""},{"$f":"MID(基本項目!$B$8,2,1)","v":""},{"$f":"MID(基本項目!$B$8,3,1)","v":""},{"$f":"MID(基本項目!$B$8,4,1)","v":""},{"$f":"MID(基本項目!$B$8,5,1)","v":""},{"$f":"MID(基本項目!$B$8,6,1)","v":""},{"$f":"MID(基本項目!$B$8,7,1)","v":""},{"$f":"MID(基本項目!$B$8,8,1)","v":""},{"$f":"MID(基本項目!$B$8,9,1)","v":""},{"$f":"MID(基本項目!$B$8,10,1)","v":""},{"$f":"MID(基本項目!$B$8,11,1)","v":""},{"$f":"MID(基本項目!$B$8,12,1)","v":""},{"$f":"MID(基本項目!$B$8,13,1)","v":""},{"$f":"MID(基本項目!$B$8,14,1)","v":""}]
[null,null,null,null,null,null,null,null,null,null,null,null,null,null,null,null,null,null,null,null,null,null,null,null,null,null,null,null,null,null,null,null,null,null,null,null,null,null,null,null,{"$f":"MID(基本項目!$B$8,15,1)","v":""},{"$f":"MID(基本項目!$B$8,16,1)","v":""},{"$f":"MID(基本項目!$B$8,17,1)","v":""},{"$f":"MID(基本項目!$B$8,18,1)","v":""},{"$f":"MID(基本項目!$B$8,19,1)","v":""},{"$f":"MID(基本項目!$B$8,20,1)","v":""},{"$f":"MID(基本項目!$B$8,21,1)","v":""},{"$f":"MID(基本項目!$B$8,22,1)","v":""},{"$f":"MID(基本項目!$B$8,23,1)","v":""},{"$f":"MID(基本項目!$B$8,24,1)","v":""},{"$f":"MID(基本項目!$B$8,25,1)","v":""},{"$f":"MID(基本項目!$B$8,26,1)","v":""},{"$f":"MID(基本項目!$B$8,27,1)","v":""},{"$f":"MID(基本項目!$B$8,28,1)","v":""}]
["工事番号　BC2-",null,null,null,null,{"$f":"+F7","v":""},null,null,null,null,null,null,"－",{"$f":"+N7","v":"01"},null,null,null,null,null,null,null,null,null,null,null,null,null,null,null,null,null,null,null,null,null,null,"住所・社名・氏名","〒",{"$f":"MID(基本項目!$K$6,1,1)","v":""},{"$f":"MID(基本項目!$K$6,2,1)","v":""},{"$f":"MID(基本項目!$K$6,3,1)","v":""},"－",{"$f":"MID(基本項目!$L$6,1,1)","v":""},{"$f":"MID(基本項目!$L$6,2,1)","v":""},{"$f":"MID(基本項目!$L$6,3,1)","v":""},{"$f":"MID(基本項目!$L$6,4,1)","v":""}]
[]
[null,null,null,null,null,null,null,null,null,null,null,null,null,null,null,null,null,null,null,null,null,null,null,null,null,null,null,null,null,null,null,null,null,null,null,null,null,null,{"$f":"+基本項目!B7","v":0}]
["工　事　名　称",null,null,null,null,null,{"$f":"+G10","v":0}]
[null,null,null,null,null,null,null,null,null,null,null,null,null,null,null,null,null,null,null,null,null,null,null,null,null,null,null,null,null,null,null,null,null,null,null,null,null,null,{"$f":"+基本項目!B9","v":0}]
[]
["検印","本　　　支　　　店",null,null,null,null,null,null,null,null,null,null,null,"ＪＶ　（サブ）",null,null,null,null,null,null,"作　　　業　　　所",null,null,null,null,null,null,null,null,null,null,null,"事務担当",null,null,null,null,null,{"$f":"+基本項目!B10","v":0},null,null,null,null,null,{"$f":"+基本項目!B11","v":0},null,null,null,null,null,null,null,"㊞"]
[]
[]
[null,null,null,null,null,null,null,null,null,null,null,null,null,null,null,null,null,null,null,null,null,null,null,null,null,null,null,null,null,null,null,null,null,null,null,null,null,"ＴＥＬ",null,{"$f":"+基本項目!B12","v":0},null,null,"（",{"$f":"+基本項目!D12","v":0},null,null,"）",{"$f":"+基本項目!H12","v":0}]
[null,null,null,null,null,null,null,null,null,null,null,null,null,null,null,null,null,null,null,null,null,null,null,null,null,null,null,null,null,null,null,null,null,null,null,null,null,"ＦＡＸ",null,{"$f":"+基本項目!B13","v":0},null,null,"（",{"$f":"+基本項目!D13","v":0},null,null,"）",{"$f":"+基本項目!H13","v":0}]
[]
[null,null,null,"下　記　の　通　り　請　求　致　し　ま　す　。",null,null,null,null,null,null,null,null,null,null,null,null,null,null,null,null,null,null,null,null,null,null,null,null,null,null,null,null,null,null,null,null,"適格請求書発行事業者登録番号"]
["月/日",null,null,"品　　　　　名",null,null,null,null,null,null,null,null,null,null,null,null,"数　　量",null,null,null,"単位",null,"単価",null,null,null,"金　　　　　額",null,null,null,null,null,"摘　要",null,null,null,null,"T",{"$f":"MID(基本項目!$D$2,1,1)","v":""},"－",{"$f":"MID(基本項目!$S$2,1,1)","v":""},{"$f":"MID(基本項目!$S$2,2,1)","v":""},{"$f":"MID(基本項目!$S$2,3,1)","v":""},{"$f":"MID(基本項目!$S$2,4,1)","v":""},"－",{"$f":"MID(基本項目!$T$2,1,1)","v":""},{"$f":"MID(基本項目!$T$2,2,1)","v":""},{"$f":"MID(基本項目!$T$2,3,1)","v":""},{"$f":"MID(基本項目!$T$2,4,1)","v":""},"－",{"$f":"MID(基本項目!$U$2,1,1)","v":""},{"$f":"MID(基本項目!$U$2,2,1)","v":""},{"$f":"MID(基本項目!$U$2,3,1)","v":""},{"$f":"MID(基本項目!$U$2,4,1)","v":""}]
[{"$f":"+A21","v":0},"/",{"$f":"+C21","v":0},{"$f":"+D21","v":0},{"$f":"+請求書!E21","v":0},{"$f":"+請求書!F21","v":0},{"$f":"+請求書!G21","v":0},{"$f":"+請求書!H21","v":0},{"$f":"+請求書!I21","v":0},{"$f":"+請求書!J21","v":0},{"$f":"+請求書!K21","v":0},{"$f":"+請求書!L21","v":0},{"$f":"+請求書!M21","v":0},{"$f":"+請求書!N21","v":0},{"$f":"+請求書!O21","v":0},{"$f":"+請求書!P21","v":0},{"$f":"IF(請求書!Q21=0,\" \",Q21)","v":" "},{"$f":"+請求書!R21","v":0},{"$f":"+請求書!S21","v":0},{"$f":"+請求書!T21","v":0},{"$f":"+U21","v":0},{"$f":"+請求書!V21","v":0},{"$f":"IF(請求書!W21=0,\" \",W21)","v":" "},{"$f":"+請求書!X21","v":0},{"$f":"+請求書!Y21","v":0},{"$f":"+請求書!Z21","v":0},{"$f":"+AA21","v":0},{"$f":"+請求書!AB21","v":0},{"$f":"+請求書!AC21","v":0},{"$f":"+請求書!AD21","v":0},{"$f":"+請求書!AE21","v":0},{"$f":"+請求書!AF21","v":0},{"$f":"+AG21","v":0}]
[{"$f":"+請求書!A22","v":0},"/",{"$f":"+請求書!C22","v":0},{"$f":"+D22","v":0},{"$f":"+請求書!E22","v":0},{"$f":"+請求書!F22","v":0},{"$f":"+請求書!G22","v":0},{"$f":"+請求書!H22","v":0},{"$f":"+請求書!I22","v":0},{"$f":"+請求書!J22","v":0},{"$f":"+請求書!K22","v":0},{"$f":"+請求書!L22","v":0},{"$f":"+請求書!M22","v":0},{"$f":"+請求書!N22","v":0},{"$f":"+請求書!O22","v":0},{"$f":"+請求書!P22","v":0},{"$f":"IF(請求書!Q22=0,\" \",Q22)","v":" "},{"$f":"+請求書!R22","v":0},{"$f":"+請求書!S22","v":0},{"$f":"+請求書!T22","v":0},{"$f":"+請求書!U22","v":0},{"$f":"+請求書!V22","v":0},{"$f":"IF(請求書!W22=0,\" \",W22)","v":" "},{"$f":"+請求書!X22","v":0},{"$f":"+請求書!Y22","v":0},{"$f":"+請求書!Z22","v":0},{"$f":"+請求書!AA22","v":0},{"$f":"+請求書!AB22","v":0},{"$f":"+請求書!AC22","v":0},{"$f":"+請求書!AD22","v":0},{"$f":"+請求書!AE22","v":0},{"$f":"+請求書!AF22","v":0},{"$f":"+AG22","v":0}]
[{"$f":"+請求書!A23","v":0},"/",{"$f":"+請求書!C23","v":0},0,{"$f":"+請求書!E23","v":0},{"$f":"+請求書!F23","v":0},{"$f":"+請求書!G23","v":0},{"$f":"+請求書!H23","v":0},{"$f":"+請求書!I23","v":0},{"$f":"+請求書!J23","v":0},{"$f":"+請求書!K23","v":0},{"$f":"+請求書!L23","v":0},{"$f":"+請求書!M23","v":0},{"$f":"+請求書!N23","v":0},{"$f":"+請求書!O23","v":0},{"$f":"+請求書!P23","v":0},{"$f":"IF(請求書!Q23=0,\" \",Q23)","v":" "},{"$f":"+請求書!R23","v":0},{"$f":"+請求書!S23","v":0},{"$f":"+請求書!T23","v":0},{"$f":"+請求書!U23","v":0},{"$f":"+請求書!V23","v":0},{"$f":"IF(請求書!W23=0,\" \",W23)","v":" "},{"$f":"+請求書!X23","v":0},{"$f":"+請求書!Y23","v":0},{"$f":"+請求書!Z23","v":0},{"$f":"+請求書!AA23","v":0},{"$f":"+請求書!AB23","v":0},{"$f":"+請求書!AC23","v":0},{"$f":"+請求書!AD23","v":0},{"$f":"+請求書!AE23","v":0},{"$f":"+請求書!AF23","v":0},{"$f":"+AG23","v":0}]
[{"$f":"+請求書!A24","v":0},"/",{"$f":"+請求書!C24","v":0},0,{"$f":"+請求書!E24","v":0},{"$f":"+請求書!F24","v":0},{"$f":"+請求書!G24","v":0},{"$f":"+請求書!H24","v":0},{"$f":"+請求書!I24","v":0},{"$f":"+請求書!J24","v":0},{"$f":"+請求書!K24","v":0},{"$f":"+請求書!L24","v":0},{"$f":"+請求書!M24","v":0},{"$f":"+請求書!N24","v":0},{"$f":"+請求書!O24","v":0},{"$f":"+請求書!P24","v":0},{"$f":"IF(請求書!Q24=0,\" \",Q24)","v":" "},{"$f":"+請求書!R24","v":0},{"$f":"+請求書!S24","v":0},{"$f":"+請求書!T24","v":0},{"$f":"+請求書!U24","v":0},{"$f":"+請求書!V24","v":0},{"$f":"IF(請求書!W24=0,\" \",W24)","v":" "},{"$f":"+請求書!X24","v":0},{"$f":"+請求書!Y24","v":0},{"$f":"+請求書!Z24","v":0},{"$f":"+請求書!AA24","v":0},{"$f":"+請求書!AB24","v":0},{"$f":"+請求書!AC24","v":0},{"$f":"+請求書!AD24","v":0},{"$f":"+請求書!AE24","v":0},{"$f":"+請求書!AF24","v":0},0]
[{"$f":"+請求書!A25","v":0},"/",{"$f":"+請求書!C25","v":0},0,{"$f":"+請求書!E25","v":0},{"$f":"+請求書!F25","v":0},{"$f":"+請求書!G25","v":0},{"$f":"+請求書!H25","v":0},{"$f":"+請求書!I25","v":0},{"$f":"+請求書!J25","v":0},{"$f":"+請求書!K25","v":0},{"$f":"+請求書!L25","v":0},{"$f":"+請求書!M25","v":0},{"$f":"+請求書!N25","v":0},{"$f":"+請求書!O25","v":0},{"$f":"+請求書!P25","v":0},{"$f":"IF(請求書!Q25=0,\" \",Q25)","v":" "},{"$f":"+請求書!R25","v":0},{"$f":"+請求書!S25","v":0},{"$f":"+請求書!T25","v":0},{"$f":"+請求書!U25","v":0},{"$f":"+請求書!V25","v":0},{"$f":"IF(請求書!W25=0,\" \",W25)","v":" "},{"$f":"+請求書!X25","v":0},{"$f":"+請求書!Y25","v":0},{"$f":"+請求書!Z25","v":0},{"$f":"+請求書!AA25","v":0},{"$f":"+請求書!AB25","v":0},{"$f":"+請求書!AC25","v":0},{"$f":"+請求書!AD25","v":0},{"$f":"+請求書!AE25","v":0},{"$f":"+請求書!AF25","v":0},0]
[{"$f":"+請求書!A26","v":0},"/",{"$f":"+請求書!C26","v":0},0,{"$f":"+請求書!E26","v":0},{"$f":"+請求書!F26","v":0},{"$f":"+請求書!G26","v":0},{"$f":"+請求書!H26","v":0},{"$f":"+請求書!I26","v":0},{"$f":"+請求書!J26","v":0},{"$f":"+請求書!K26","v":0},{"$f":"+請求書!L26","v":0},{"$f":"+請求書!M26","v":0},{"$f":"+請求書!N26","v":0},{"$f":"+請求書!O26","v":0},{"$f":"+請求書!P26","v":0},{"$f":"IF(請求書!Q26=0,\" \",Q26)","v":" "},{"$f":"+請求書!R26","v":0},{"$f":"+請求書!S26","v":0},{"$f":"+請求書!T26","v":0},{"$f":"+請求書!U26","v":0},{"$f":"+請求書!V26","v":0},{"$f":"IF(請求書!W26=0,\" \",W26)","v":" "},{"$f":"+請求書!X26","v":0},{"$f":"+請求書!Y26","v":0},{"$f":"+請求書!Z26","v":0},{"$f":"+請求書!AA26","v":0},{"$f":"+請求書!AB26","v":0},{"$f":"+請求書!AC26","v":0},{"$f":"+請求書!AD26","v":0},{"$f":"+請求書!AE26","v":0},{"$f":"+請求書!AF26","v":0},0]
[{"$f":"+請求書!A27","v":0},"/",{"$f":"+請求書!C27","v":0},0,{"$f":"+請求書!E27","v":0},{"$f":"+請求書!F27","v":0},{"$f":"+請求書!G27","v":0},{"$f":"+請求書!H27","v":0},{"$f":"+請求書!I27","v":0},{"$f":"+請求書!J27","v":0},{"$f":"+請求書!K27","v":0},{"$f":"+請求書!L27","v":0},{"$f":"+請求書!M27","v":0},{"$f":"+請求書!N27","v":0},{"$f":"+請求書!O27","v":0},{"$f":"+請求書!P27","v":0},{"$f":"IF(請求書!Q27=0,\" \",Q27)","v":" "},{"$f":"+請求書!R27","v":0},{"$f":"+請求書!S27","v":0},{"$f":"+請求書!T27","v":0},{"$f":"+請求書!U27","v":0},{"$f":"+請求書!V27","v":0},{"$f":"IF(請求書!W27=0,\" \",W27)","v":" "},{"$f":"+請求書!X27","v":0},{"$f":"+請求書!Y27","v":0},{"$f":"+請求書!Z27","v":0},{"$f":"+請求書!AA27","v":0},{"$f":"+請求書!AB27","v":0},{"$f":"+請求書!AC27","v":0},{"$f":"+請求書!AD27","v":0},{"$f":"+請求書!AE27","v":0},{"$f":"+請求書!AF27","v":0},0]
[{"$f":"+請求書!A28","v":0},"/",{"$f":"+請求書!C28","v":0},0,{"$f":"+請求書!E28","v":0},{"$f":"+請求書!F28","v":0},{"$f":"+請求書!G28","v":0},{"$f":"+請求書!H28","v":0},{"$f":"+請求書!I28","v":0},{"$f":"+請求書!J28","v":0},{"$f":"+請求書!K28","v":0},{"$f":"+請求書!L28","v":0},{"$f":"+請求書!M28","v":0},{"$f":"+請求書!N28","v":0},{"$f":"+請求書!O28","v":0},{"$f":"+請求書!P28","v":0},{"$f":"IF(請求書!Q28=0,\" \",Q28)","v":" "},{"$f":"+請求書!R28","v":0},{"$f":"+請求書!S28","v":0},{"$f":"+請求書!T28","v":0},{"$f":"+請求書!U28","v":0},{"$f":"+請求書!V28","v":0},{"$f":"IF(請求書!W28=0,\" \",W28)","v":" "},{"$f":"+請求書!X28","v":0},{"$f":"+請求書!Y28","v":0},{"$f":"+請求書!Z28","v":0},{"$f":"+請求書!AA28","v":0},{"$f":"+請求書!AB28","v":0},{"$f":"+請求書!AC28","v":0},{"$f":"+請求書!AD28","v":0},{"$f":"+請求書!AE28","v":0},{"$f":"+請求書!AF28","v":0},0]
[{"$f":"+請求書!A29","v":0},"/",{"$f":"+請求書!C29","v":0},0,{"$f":"+請求書!E29","v":0},{"$f":"+請求書!F29","v":0},{"$f":"+請求書!G29","v":0},{"$f":"+請求書!H29","v":0},{"$f":"+請求書!I29","v":0},{"$f":"+請求書!J29","v":0},{"$f":"+請求書!K29","v":0},{"$f":"+請求書!L29","v":0},{"$f":"+請求書!M29","v":0},{"$f":"+請求書!N29","v":0},{"$f":"+請求書!O29","v":0},{"$f":"+請求書!P29","v":0},{"$f":"IF(請求書!Q29=0,\" \",Q29)","v":" "},{"$f":"+請求書!R29","v":0},{"$f":"+請求書!S29","v":0},{"$f":"+請求書!T29","v":0},{"$f":"+請求書!U29","v":0},{"$f":"+請求書!V29","v":0},{"$f":"IF(請求書!W29=0,\" \",W29)","v":" "},{"$f":"+請求書!X29","v":0},{"$f":"+請求書!Y29","v":0},{"$f":"+請求書!Z29","v":0},{"$f":"+請求書!AA29","v":0},{"$f":"+請求書!AB29","v":0},{"$f":"+請求書!AC29","v":0},{"$f":"+請求書!AD29","v":0},{"$f":"+請求書!AE29","v":0},{"$f":"+請求書!AF29","v":0},0]
[{"$f":"+請求書!A30","v":0},"/",{"$f":"+請求書!C30","v":0},0,{"$f":"+請求書!E30","v":0},{"$f":"+請求書!F30","v":0},{"$f":"+請求書!G30","v":0},{"$f":"+請求書!H30","v":0},{"$f":"+請求書!I30","v":0},{"$f":"+請求書!J30","v":0},{"$f":"+請求書!K30","v":0},{"$f":"+請求書!L30","v":0},{"$f":"+請求書!M30","v":0},{"$f":"+請求書!N30","v":0},{"$f":"+請求書!O30","v":0},{"$f":"+請求書!P30","v":0},{"$f":"IF(請求書!Q30=0,\" \",Q30)","v":" "},{"$f":"+請求書!R30","v":0},{"$f":"+請求書!S30","v":0},{"$f":"+請求書!T30","v":0},{"$f":"+請求書!U30","v":0},{"$f":"+請求書!V30","v":0},{"$f":"IF(請求書!W30=0,\" \",W30)","v":" "},{"$f":"+請求書!X30","v":0},{"$f":"+請求書!Y30","v":0},{"$f":"+請求書!Z30","v":0},{"$f":"+請求書!AA30","v":0},{"$f":"+請求書!AB30","v":0},{"$f":"+請求書!AC30","v":0},{"$f":"+請求書!AD30","v":0},{"$f":"+請求書!AE30","v":0},{"$f":"+請求書!AF30","v":0},0]
[{"$f":"+請求書!A31","v":0},"/",{"$f":"+請求書!C31","v":0},0,{"$f":"+請求書!E31","v":0},{"$f":"+請求書!F31","v":0},{"$f":"+請求書!G31","v":0},{"$f":"+請求書!H31","v":0},{"$f":"+請求書!I31","v":0},{"$f":"+請求書!J31","v":0},{"$f":"+請求書!K31","v":0},{"$f":"+請求書!L31","v":0},{"$f":"+請求書!M31","v":0},{"$f":"+請求書!N31","v":0},{"$f":"+請求書!O31","v":0},{"$f":"+請求書!P31","v":0},{"$f":"IF(請求書!Q31=0,\" \",Q31)","v":" "},{"$f":"+請求書!R31","v":0},{"$f":"+請求書!S31","v":0},{"$f":"+請求書!T31","v":0},{"$f":"+請求書!U31","v":0},{"$f":"+請求書!V31","v":0},{"$f":"IF(請求書!W31=0,\" \",W31)","v":" "},{"$f":"+請求書!X31","v":0},{"$f":"+請求書!Y31","v":0},{"$f":"+請求書!Z31","v":0},{"$f":"+請求書!AA31","v":0},{"$f":"+請求書!AB31","v":0},{"$f":"+請求書!AC31","v":0},{"$f":"+請求書!AD31","v":0},{"$f":"+請求書!AE31","v":0},{"$f":"+請求書!AF31","v":0},0]
[{"$f":"+請求書!A32","v":0},"/",{"$f":"+請求書!C32","v":0},0,{"$f":"+請求書!E32","v":0},{"$f":"+請求書!F32","v":0},{"$f":"+請求書!G32","v":0},{"$f":"+請求書!H32","v":0},{"$f":"+請求書!I32","v":0},{"$f":"+請求書!J32","v":0},{"$f":"+請求書!K32","v":0},{"$f":"+請求書!L32","v":0},{"$f":"+請求書!M32","v":0},{"$f":"+請求書!N32","v":0},{"$f":"+請求書!O32","v":0},{"$f":"+請求書!P32","v":0},{"$f":"IF(請求書!Q32=0,\" \",Q32)","v":" "},{"$f":"+請求書!R32","v":0},{"$f":"+請求書!S32","v":0},{"$f":"+請求書!T32","v":0},{"$f":"+請求書!U32","v":0},{"$f":"+請求書!V32","v":0},{"$f":"IF(請求書!W32=0,\" \",W32)","v":" "},{"$f":"+請求書!X32","v":0},{"$f":"+請求書!Y32","v":0},{"$f":"+請求書!Z32","v":0},{"$f":"+請求書!AA32","v":0},{"$f":"+請求書!AB32","v":0},{"$f":"+請求書!AC32","v":0},{"$f":"+請求書!AD32","v":0},{"$f":"+請求書!AE32","v":0},{"$f":"+請求書!AF32","v":0},0,null,null,null,"振込先",null,null,null,null,null,{"$f":"+基本項目!B15","v":0},null,null,null,null,null,{"$f":"+基本項目!B17","v":0}]
[{"$f":"+請求書!A33","v":0},"/",{"$f":"+請求書!C33","v":0},0,{"$f":"+請求書!E33","v":0},{"$f":"+請求書!F33","v":0},{"$f":"+請求書!G33","v":0},{"$f":"+請求書!H33","v":0},{"$f":"+請求書!I33","v":0},{"$f":"+請求書!J33","v":0},{"$f":"+請求書!K33","v":0},{"$f":"+請求書!L33","v":0},{"$f":"+請求書!M33","v":0},{"$f":"+請求書!N33","v":0},{"$f":"+請求書!O33","v":0},{"$f":"+請求書!P33","v":0},{"$f":"IF(請求書!Q33=0,\" \",Q33)","v":" "},{"$f":"+請求書!R33","v":0},{"$f":"+請求書!S33","v":0},{"$f":"+請求書!T33","v":0},{"$f":"+請求書!U33","v":0},{"$f":"+請求書!V33","v":0},{"$f":"IF(請求書!W33=0,\" \",W33)","v":" "},{"$f":"+請求書!X33","v":0},{"$f":"+請求書!Y33","v":0},{"$f":"+請求書!Z33","v":0},{"$f":"+請求書!AA33","v":0},{"$f":"+請求書!AB33","v":0},{"$f":"+請求書!AC33","v":0},{"$f":"+請求書!AD33","v":0},{"$f":"+請求書!AE33","v":0},{"$f":"+請求書!AF33","v":0},0,null,null,null,"銀行コード",null,null,null,null,null,{"$f":"MID(基本項目!$K$16,1,1)","v":""},{"$f":"MID(基本項目!$K$16,2,1)","v":""},{"$f":"MID(基本項目!$K$16,3,1)","v":""},{"$f":"MID(基本項目!$K$16,4,1)","v":""},"支店コード",null,null,null,null,{"$f":"MID(基本項目!$K$18,1,1)","v":""},{"$f":"MID(基本項目!$K$18,2,1)","v":""},{"$f":"MID(基本項目!$K$18,3,1)","v":""}]
["計",null,null,null,null,null,null,null,null,null,null,null,null,null,null,null,null,null,null,null,null,null,{"$f":"+請求書!W34","v":0},{"$f":"+請求書!X34","v":0},{"$f":"+請求書!Y34","v":0},{"$f":"+請求書!Z34","v":0},{"$f":"+請求書!AA34","v":0},{"$f":"+請求書!AB34","v":0},{"$f":"+請求書!AC34","v":0},{"$f":"+請求書!AD34","v":0},{"$f":"+請求書!AE34","v":0},{"$f":"+請求書!AF34","v":0},null,null,null,null,"種別・番号",null,null,null,null,null,{"$f":"+基本項目!B19","v":0},null,null,null,null,{"$f":"MID(基本項目!$K$20,1,1)","v":""},{"$f":"MID(基本項目!$K$20,2,1)","v":""},{"$f":"MID(基本項目!$K$20,3,1)","v":""},{"$f":"MID(基本項目!$K$20,4,1)","v":""},{"$f":"MID(基本項目!$K$20,5,1)","v":""},{"$f":"MID(基本項目!$K$20,6,1)","v":""},{"$f":"MID(基本項目!$K$20,7,1)","v":""}]
["消　　　費　　　税",null,null,null,null,null,null,null,null,null,null,null,null,null,null,null,null,null,null,{"$f":"+T35","v":10},"%",null,{"$f":"+請求書!W35","v":0},{"$f":"+請求書!X35","v":0},{"$f":"+請求書!Y35","v":0},{"$f":"+請求書!Z35","v":0},{"$f":"+請求書!AA35","v":0},{"$f":"+請求書!AB35","v":0},{"$f":"+請求書!AC35","v":0},{"$f":"+請求書!AD35","v":0},{"$f":"+請求書!AE35","v":0},{"$f":"+請求書!AF35","v":0},null,null,null,null,"口座名義　　　　　　　　　　（カタカナ）",null,null,null,null,null,{"$f":"MID(基本項目!$B$21,1,1)","v":""},{"$f":"MID(基本項目!$B$21,2,1)","v":""},{"$f":"MID(基本項目!$B$21,3,1)","v":""},{"$f":"MID(基本項目!$B$21,4,1)","v":""},{"$f":"MID(基本項目!$B$21,5,1)","v":""},{"$f":"MID(基本項目!$B$21,6,1)","v":""},{"$f":"MID(基本項目!$B$21,7,1)","v":""},{"$f":"MID(基本項目!$B$21,8,1)","v":""},{"$f":"MID(基本項目!$B$21,9,1)","v":""},{"$f":"MID(基本項目!$B$21,10,1)","v":""},{"$f":"MID(基本項目!$B$21,11,1)","v":""},{"$f":"MID(基本項目!$B$21,12,1)","v":""}]
["合　　　　　　　　計",null,null,null,null,null,null,null,null,null,null,null,null,null,null,null,null,null,null,null,null,null,{"$f":"+請求書!W36","v":0},{"$f":"+請求書!X36","v":0},{"$f":"+請求書!Y36","v":0},{"$f":"+請求書!Z36","v":0},{"$f":"+請求書!AA36","v":0},{"$f":"+請求書!AB36","v":0},{"$f":"+請求書!AC36","v":0},{"$f":"+請求書!AD36","v":0},{"$f":"+請求書!AE36","v":0},{"$f":"+請求書!AF36","v":0},null,null,null,null,null,null,null,null,null,null,{"$f":"MID(基本項目!$B$21,13,1)","v":""},{"$f":"MID(基本項目!$B$21,14,1)","v":""},{"$f":"MID(基本項目!$B$21,15,1)","v":""},{"$f":"MID(基本項目!$B$21,16,1)","v":""},{"$f":"MID(基本項目!$B$21,17,1)","v":""},{"$f":"MID(基本項目!$B$21,18,1)","v":""},{"$f":"MID(基本項目!$B$21,19,1)","v":""},{"$f":"MID(基本項目!$B$21,20,1)","v":""},{"$f":"MID(基本項目!$B$21,21,1)","v":""},{"$f":"MID(基本項目!$B$21,22,1)","v":""},{"$f":"MID(基本項目!$B$21,23,1)","v":""},{"$f":"MID(基本項目!$B$21,24,1)","v":""}]
[null,null,null,"本取引に関し株木建設株式会社契約約款等を理解・承諾し、請求行為を行っています。"]
[null,null,null,"本請求に依る債権は、株木建設株式会社の書面による承諾なしに第三者へ譲渡しません。"]
[null,null,null,"事務取扱手数料は、請求元で負担します。",null,null,null,null,null,null,null,null,null,null,null,null,null,null,null,null,null,null,null,null,null,null,null,null,null,null,null,null,null,null,null,null,null,null,null,null,null,null,null,null,null,null,null,null,null,null,null,null,null,{"$f":"+BB39","v":"2023.06.01改訂"}]
[null,null,null,null,null,null,null,null,null,null,null,null,null,null,null,null,null,"　請　　求　　書　（ 本 支 店 用 ）　",null,null,null,null,null,null,null,null,null,null,null,null,null,null,null,null,null,null,null,null,null,null,null,null,null,null,null,{"$f":"+AT1","v":"　　　　枚中のP　　　"}]
[]
[null,null,null,null,null,null,null,null,null,null,null,null,null,null,null,null,null,null,null,null,null,"請求年月日　BC1-",{"$f":"+請求書!W3:AE3","v":"2023-06-20"}]
["株木建設株式会社",null,null,null,null,null,null,{"$f":"+H4","v":"東京本店"},null,null,null,null,null,"御中",null,null,null,null,null,null,null,null,null,null,null,null,null,null,null,null,null,null,null,null,null,null,"※カブキコード→",null,null,null,null,"BC4-",null,{"$f":"MID(基本項目!$K$5,1,1)","v":""},{"$f":"MID(基本項目!$K$5,2,1)","v":""},{"$f":"MID(基本項目!$K$5,3,1)","v":""},{"$f":"MID(基本項目!$K$5,4,1)","v":""},{"$f":"MID(基本項目!$K$5,5,1)","v":""},{"$f":"MID(基本項目!$K$5,6,1)","v":""},{"$f":"MID(基本項目!$K$5,7,1)","v":""},"－",{"$f":"MID(基本項目!$L$5,1,1)","v":"0"},{"$f":"MID(基本項目!$L$5,1,1)","v":"0"},{"$f":"MID(基本項目!$L$5,1,1)","v":"0"}]
[null,null,null,null,null,null,null,null,null,null,null,null,null,null,null,null,null,null,null,null,null,null,null,null,null,null,null,null,null,null,null,null,null,null,null,null,"フ　リ　ガ　ナ",null,null,null,{"$f":"MID(基本項目!$B$8,1,1)","v":""},{"$f":"MID(基本項目!$B$8,2,1)","v":""},{"$f":"MID(基本項目!$B$8,3,1)","v":""},{"$f":"MID(基本項目!$B$8,4,1)","v":""},{"$f":"MID(基本項目!$B$8,5,1)","v":""},{"$f":"MID(基本項目!$B$8,6,1)","v":""},{"$f":"MID(基本項目!$B$8,7,1)","v":""},{"$f":"MID(基本項目!$B$8,8,1)","v":""},{"$f":"MID(基本項目!$B$8,9,1)","v":""},{"$f":"MID(基本項目!$B$8,10,1)","v":""},{"$f":"MID(基本項目!$B$8,11,1)","v":""},{"$f":"MID(基本項目!$B$8,12,1)","v":""},{"$f":"MID(基本項目!$B$8,13,1)","v":""},{"$f":"MID(基本項目!$B$8,14,1)","v":""}]
[null,null,null,null,null,null,null,null,null,null,null,null,null,null,null,null,null,null,null,null,null,null,null,null,null,null,null,null,null,null,null,null,null,null,null,null,null,null,null,null,{"$f":"MID(基本項目!$B$8,15,1)","v":""},{"$f":"MID(基本項目!$B$8,16,1)","v":""},{"$f":"MID(基本項目!$B$8,17,1)","v":""},{"$f":"MID(基本項目!$B$8,18,1)","v":""},{"$f":"MID(基本項目!$B$8,19,1)","v":""},{"$f":"MID(基本項目!$B$8,20,1)","v":""},{"$f":"MID(基本項目!$B$8,21,1)","v":""},{"$f":"MID(基本項目!$B$8,22,1)","v":""},{"$f":"MID(基本項目!$B$8,23,1)","v":""},{"$f":"MID(基本項目!$B$8,24,1)","v":""},{"$f":"MID(基本項目!$B$8,25,1)","v":""},{"$f":"MID(基本項目!$B$8,26,1)","v":""},{"$f":"MID(基本項目!$B$8,27,1)","v":""},{"$f":"MID(基本項目!$B$8,28,1)","v":""}]
["工事番号　BC2-",null,null,null,null,{"$f":"+F7","v":""},null,null,null,null,null,null,"－",{"$f":"+N7","v":"01"},null,null,null,null,null,null,null,null,null,null,null,null,null,null,null,null,null,null,null,null,null,null,"住所・社名・氏名","〒",{"$f":"MID(基本項目!$K$6,1,1)","v":""},{"$f":"MID(基本項目!$K$6,2,1)","v":""},{"$f":"MID(基本項目!$K$6,3,1)","v":""},"－",{"$f":"MID(基本項目!$L$6,1,1)","v":""},{"$f":"MID(基本項目!$L$6,2,1)","v":""},{"$f":"MID(基本項目!$L$6,3,1)","v":""},{"$f":"MID(基本項目!$L$6,4,1)","v":""}]
[]
[null,null,null,null,null,null,null,null,null,null,null,null,null,null,null,null,null,null,null,null,null,null,null,null,null,null,null,null,null,null,null,null,null,null,null,null,null,null,{"$f":"+基本項目!B7","v":0}]
["工　事　名　称",null,null,null,null,null,{"$f":"+G49","v":0}]
[null,null,null,null,null,null,null,null,null,null,null,null,null,null,null,null,null,null,null,null,null,null,null,null,null,null,null,null,null,null,null,null,null,null,null,null,null,null,{"$f":"+基本項目!B9","v":0}]
[]
["検印","本　　　支　　　店",null,null,null,null,null,null,null,null,null,null,null,"ＪＶ　（サブ）",null,null,null,null,null,null,"作　　　業　　　所",null,null,null,null,null,null,null,null,null,null,null,"事務担当",null,null,null,null,null,{"$f":"+基本項目!B10","v":0},null,null,null,null,null,{"$f":"+基本項目!B11","v":0},null,null,null,null,null,null,null,"㊞"]
[]
[]
[null,null,null,null,null,null,null,null,null,null,null,null,null,null,null,null,null,null,null,null,null,null,null,null,null,null,null,null,null,null,null,null,null,null,null,null,null,"ＴＥＬ",null,{"$f":"+基本項目!B12","v":0},null,null,"（",{"$f":"+基本項目!D12","v":0},null,null,"）",{"$f":"+基本項目!H12","v":0}]
[null,null,null,null,null,null,null,null,null,null,null,null,null,null,null,null,null,null,null,null,null,null,null,null,null,null,null,null,null,null,null,null,null,null,null,null,null,"ＦＡＸ",null,{"$f":"+基本項目!B13","v":0},null,null,"（",{"$f":"+基本項目!D13","v":0},null,null,"）",{"$f":"+基本項目!H13","v":0}]
[]
[null,null,null,"下　記　の　通　り　請　求　致　し　ま　す　。",null,null,null,null,null,null,null,null,null,null,null,null,null,null,null,null,null,null,null,null,null,null,null,null,null,null,null,null,null,null,null,null,"適格請求書発行事業者登録番号"]
["月/日",null,null,"品　　　　　名",null,null,null,null,null,null,null,null,null,null,null,null,"数　　量",null,null,null,"単位",null,"単価",null,null,null,"金　　　　　額",null,null,null,null,null,"摘　要",null,null,null,null,"T",{"$f":"MID(基本項目!$D$2,1,1)","v":""},"－",{"$f":"MID(基本項目!$S$2,1,1)","v":""},{"$f":"MID(基本項目!$S$2,2,1)","v":""},{"$f":"MID(基本項目!$S$2,3,1)","v":""},{"$f":"MID(基本項目!$S$2,4,1)","v":""},"－",{"$f":"MID(基本項目!$T$2,1,1)","v":""},{"$f":"MID(基本項目!$T$2,2,1)","v":""},{"$f":"MID(基本項目!$T$2,3,1)","v":""},{"$f":"MID(基本項目!$T$2,4,1)","v":""},"－",{"$f":"MID(基本項目!$U$2,1,1)","v":""},{"$f":"MID(基本項目!$U$2,2,1)","v":""},{"$f":"MID(基本項目!$U$2,3,1)","v":""},{"$f":"MID(基本項目!$U$2,4,1)","v":""}]
[{"$f":"+請求書!A21","v":0},"/",{"$f":"+請求書!C21","v":0},{"$f":"+請求書!D21","v":0},{"$f":"+請求書!E21","v":0},{"$f":"+請求書!F21","v":0},{"$f":"+請求書!G21","v":0},{"$f":"+請求書!H21","v":0},{"$f":"+請求書!I21","v":0},{"$f":"+請求書!J21","v":0},{"$f":"+請求書!K21","v":0},{"$f":"+請求書!L21","v":0},{"$f":"+請求書!M21","v":0},{"$f":"+請求書!N21","v":0},{"$f":"+請求書!O21","v":0},{"$f":"+請求書!P21","v":0},{"$f":"IF(請求書!Q21=0,\" \",Q21)","v":" "},{"$f":"+請求書!R60","v":0},{"$f":"+請求書!S60","v":0},{"$f":"+請求書!T60","v":0},{"$f":"+U60","v":0},{"$f":"+請求書!V60","v":0},{"$f":"IF(請求書!W21=0,\" \",W21)","v":" "},{"$f":"+請求書!X60","v":0},{"$f":"+請求書!Y60","v":0},{"$f":"+請求書!Z60","v":0},{"$f":"+請求書!AA21","v":0},{"$f":"+請求書!AB21","v":0},{"$f":"+請求書!AC21","v":0},{"$f":"+請求書!AD21","v":0},{"$f":"+請求書!AE21","v":0},{"$f":"+請求書!AF21","v":0},{"$f":"+AG21","v":0}]
[{"$f":"+請求書!A22","v":0},"/",{"$f":"+請求書!C22","v":0},{"$f":"+請求書!D22","v":0},{"$f":"+請求書!E22","v":0},{"$f":"+請求書!F22","v":0},{"$f":"+請求書!G22","v":0},{"$f":"+請求書!H22","v":0},{"$f":"+請求書!I22","v":0},{"$f":"+請求書!J22","v":0},{"$f":"+請求書!K22","v":0},{"$f":"+請求書!L22","v":0},{"$f":"+請求書!M22","v":0},{"$f":"+請求書!N22","v":0},{"$f":"+請求書!O22","v":0},{"$f":"+請求書!P22","v":0},{"$f":"IF(請求書!Q22=0,\" \",Q22)","v":" "},{"$f":"+請求書!R61","v":0},{"$f":"+請求書!S61","v":0},{"$f":"+請求書!T61","v":0},{"$f":"+請求書!U61","v":0},{"$f":"+請求書!V61","v":0},{"$f":"IF(請求書!W22=0,\" \",W22)","v":" "},{"$f":"+請求書!X61","v":0},{"$f":"+請求書!Y61","v":0},{"$f":"+請求書!Z61","v":0},{"$f":"+請求書!AA22","v":0},{"$f":"+請求書!AB22","v":0},{"$f":"+請求書!AC22","v":0},{"$f":"+請求書!AD22","v":0},{"$f":"+請求書!AE22","v":0},{"$f":"+請求書!AF22","v":0},{"$f":"+AG22","v":0}]
[{"$f":"+請求書!A23","v":0},"/",{"$f":"+請求書!C23","v":0},{"$f":"+請求書!D23","v":0},{"$f":"+請求書!E23","v":0},{"$f":"+請求書!F23","v":0},{"$f":"+請求書!G23","v":0},{"$f":"+請求書!H23","v":0},{"$f":"+請求書!I23","v":0},{"$f":"+請求書!J23","v":0},{"$f":"+請求書!K23","v":0},{"$f":"+請求書!L23","v":0},{"$f":"+請求書!M23","v":0},{"$f":"+請求書!N23","v":0},{"$f":"+請求書!O23","v":0},{"$f":"+請求書!P23","v":0},{"$f":"IF(請求書!Q23=0,\" \",Q23)","v":" "},{"$f":"+請求書!R62","v":0},{"$f":"+請求書!S62","v":0},{"$f":"+請求書!T62","v":0},{"$f":"+請求書!U62","v":0},{"$f":"+請求書!V62","v":0},{"$f":"IF(請求書!W23=0,\" \",W23)","v":" "},{"$f":"+請求書!X62","v":0},{"$f":"+請求書!Y62","v":0},{"$f":"+請求書!Z62","v":0},{"$f":"+請求書!AA23","v":0},{"$f":"+請求書!AB23","v":0},{"$f":"+請求書!AC23","v":0},{"$f":"+請求書!AD23","v":0},{"$f":"+請求書!AE23","v":0},{"$f":"+請求書!AF23","v":0},0]
[{"$f":"+請求書!A24","v":0},"/",{"$f":"+請求書!C24","v":0},{"$f":"+請求書!D24","v":0},{"$f":"+請求書!E24","v":0},{"$f":"+請求書!F24","v":0},{"$f":"+請求書!G24","v":0},{"$f":"+請求書!H24","v":0},{"$f":"+請求書!I24","v":0},{"$f":"+請求書!J24","v":0},{"$f":"+請求書!K24","v":0},{"$f":"+請求書!L24","v":0},{"$f":"+請求書!M24","v":0},{"$f":"+請求書!N24","v":0},{"$f":"+請求書!O24","v":0},{"$f":"+請求書!P24","v":0},{"$f":"IF(請求書!Q24=0,\" \",Q24)","v":" "},{"$f":"+請求書!R63","v":0},{"$f":"+請求書!S63","v":0},{"$f":"+請求書!T63","v":0},{"$f":"+請求書!U63","v":0},{"$f":"+請求書!V63","v":0},{"$f":"IF(請求書!W24=0,\" \",W24)","v":" "},{"$f":"+請求書!X63","v":0},{"$f":"+請求書!Y63","v":0},{"$f":"+請求書!Z63","v":0},{"$f":"+請求書!AA24","v":0},{"$f":"+請求書!AB24","v":0},{"$f":"+請求書!AC24","v":0},{"$f":"+請求書!AD24","v":0},{"$f":"+請求書!AE24","v":0},{"$f":"+請求書!AF24","v":0},0]
[{"$f":"+請求書!A25","v":0},"/",{"$f":"+請求書!C25","v":0},{"$f":"+請求書!D25","v":0},{"$f":"+請求書!E25","v":0},{"$f":"+請求書!F25","v":0},{"$f":"+請求書!G25","v":0},{"$f":"+請求書!H25","v":0},{"$f":"+請求書!I25","v":0},{"$f":"+請求書!J25","v":0},{"$f":"+請求書!K25","v":0},{"$f":"+請求書!L25","v":0},{"$f":"+請求書!M25","v":0},{"$f":"+請求書!N25","v":0},{"$f":"+請求書!O25","v":0},{"$f":"+請求書!P25","v":0},{"$f":"IF(請求書!Q25=0,\" \",Q25)","v":" "},{"$f":"+請求書!R64","v":0},{"$f":"+請求書!S64","v":0},{"$f":"+請求書!T64","v":0},{"$f":"+請求書!U64","v":0},{"$f":"+請求書!V64","v":0},{"$f":"IF(請求書!W25=0,\" \",W25)","v":" "},{"$f":"+請求書!X64","v":0},{"$f":"+請求書!Y64","v":0},{"$f":"+請求書!Z64","v":0},{"$f":"+請求書!AA25","v":0},{"$f":"+請求書!AB25","v":0},{"$f":"+請求書!AC25","v":0},{"$f":"+請求書!AD25","v":0},{"$f":"+請求書!AE25","v":0},{"$f":"+請求書!AF25","v":0},0]
[{"$f":"+請求書!A26","v":0},"/",{"$f":"+請求書!C26","v":0},{"$f":"+請求書!D26","v":0},{"$f":"+請求書!E26","v":0},{"$f":"+請求書!F26","v":0},{"$f":"+請求書!G26","v":0},{"$f":"+請求書!H26","v":0},{"$f":"+請求書!I26","v":0},{"$f":"+請求書!J26","v":0},{"$f":"+請求書!K26","v":0},{"$f":"+請求書!L26","v":0},{"$f":"+請求書!M26","v":0},{"$f":"+請求書!N26","v":0},{"$f":"+請求書!O26","v":0},{"$f":"+請求書!P26","v":0},{"$f":"IF(請求書!Q26=0,\" \",Q26)","v":" "},{"$f":"+請求書!R65","v":0},{"$f":"+請求書!S65","v":0},{"$f":"+請求書!T65","v":0},{"$f":"+請求書!U65","v":0},{"$f":"+請求書!V65","v":0},{"$f":"IF(請求書!W26=0,\" \",W26)","v":" "},{"$f":"+請求書!X65","v":0},{"$f":"+請求書!Y65","v":0},{"$f":"+請求書!Z65","v":0},{"$f":"+請求書!AA26","v":0},{"$f":"+請求書!AB26","v":0},{"$f":"+請求書!AC26","v":0},{"$f":"+請求書!AD26","v":0},{"$f":"+請求書!AE26","v":0},{"$f":"+請求書!AF26","v":0},0]
[{"$f":"+請求書!A27","v":0},"/",{"$f":"+請求書!C27","v":0},{"$f":"+請求書!D27","v":0},{"$f":"+請求書!E27","v":0},{"$f":"+請求書!F27","v":0},{"$f":"+請求書!G27","v":0},{"$f":"+請求書!H27","v":0},{"$f":"+請求書!I27","v":0},{"$f":"+請求書!J27","v":0},{"$f":"+請求書!K27","v":0},{"$f":"+請求書!L27","v":0},{"$f":"+請求書!M27","v":0},{"$f":"+請求書!N27","v":0},{"$f":"+請求書!O27","v":0},{"$f":"+請求書!P27","v":0},{"$f":"IF(請求書!Q27=0,\" \",Q27)","v":" "},{"$f":"+請求書!R66","v":0},{"$f":"+請求書!S66","v":0},{"$f":"+請求書!T66","v":0},{"$f":"+請求書!U66","v":0},{"$f":"+請求書!V66","v":0},{"$f":"IF(請求書!W27=0,\" \",W27)","v":" "},{"$f":"+請求書!X66","v":0},{"$f":"+請求書!Y66","v":0},{"$f":"+請求書!Z66","v":0},{"$f":"+請求書!AA27","v":0},{"$f":"+請求書!AB27","v":0},{"$f":"+請求書!AC27","v":0},{"$f":"+請求書!AD27","v":0},{"$f":"+請求書!AE27","v":0},{"$f":"+請求書!AF27","v":0},0]
[{"$f":"+請求書!A28","v":0},"/",{"$f":"+請求書!C28","v":0},{"$f":"+請求書!D28","v":0},{"$f":"+請求書!E28","v":0},{"$f":"+請求書!F28","v":0},{"$f":"+請求書!G28","v":0},{"$f":"+請求書!H28","v":0},{"$f":"+請求書!I28","v":0},{"$f":"+請求書!J28","v":0},{"$f":"+請求書!K28","v":0},{"$f":"+請求書!L28","v":0},{"$f":"+請求書!M28","v":0},{"$f":"+請求書!N28","v":0},{"$f":"+請求書!O28","v":0},{"$f":"+請求書!P28","v":0},{"$f":"IF(請求書!Q28=0,\" \",Q28)","v":" "},{"$f":"+請求書!R67","v":0},{"$f":"+請求書!S67","v":0},{"$f":"+請求書!T67","v":0},{"$f":"+請求書!U67","v":0},{"$f":"+請求書!V67","v":0},{"$f":"IF(請求書!W28=0,\" \",W28)","v":" "},{"$f":"+請求書!X67","v":0},{"$f":"+請求書!Y67","v":0},{"$f":"+請求書!Z67","v":0},{"$f":"+請求書!AA28","v":0},{"$f":"+請求書!AB28","v":0},{"$f":"+請求書!AC28","v":0},{"$f":"+請求書!AD28","v":0},{"$f":"+請求書!AE28","v":0},{"$f":"+請求書!AF28","v":0},0]
[{"$f":"+請求書!A29","v":0},"/",{"$f":"+請求書!C29","v":0},{"$f":"+請求書!D29","v":0},{"$f":"+請求書!E29","v":0},{"$f":"+請求書!F29","v":0},{"$f":"+請求書!G29","v":0},{"$f":"+請求書!H29","v":0},{"$f":"+請求書!I29","v":0},{"$f":"+請求書!J29","v":0},{"$f":"+請求書!K29","v":0},{"$f":"+請求書!L29","v":0},{"$f":"+請求書!M29","v":0},{"$f":"+請求書!N29","v":0},{"$f":"+請求書!O29","v":0},{"$f":"+請求書!P29","v":0},{"$f":"IF(請求書!Q29=0,\" \",Q29)","v":" "},{"$f":"+請求書!R68","v":0},{"$f":"+請求書!S68","v":0},{"$f":"+請求書!T68","v":0},{"$f":"+請求書!U68","v":0},{"$f":"+請求書!V68","v":0},{"$f":"IF(請求書!W29=0,\" \",W29)","v":" "},{"$f":"+請求書!X68","v":0},{"$f":"+請求書!Y68","v":0},{"$f":"+請求書!Z68","v":0},{"$f":"+請求書!AA29","v":0},{"$f":"+請求書!AB29","v":0},{"$f":"+請求書!AC29","v":0},{"$f":"+請求書!AD29","v":0},{"$f":"+請求書!AE29","v":0},{"$f":"+請求書!AF29","v":0},0]
[{"$f":"+請求書!A30","v":0},"/",{"$f":"+請求書!C30","v":0},{"$f":"+請求書!D30","v":0},{"$f":"+請求書!E30","v":0},{"$f":"+請求書!F30","v":0},{"$f":"+請求書!G30","v":0},{"$f":"+請求書!H30","v":0},{"$f":"+請求書!I30","v":0},{"$f":"+請求書!J30","v":0},{"$f":"+請求書!K30","v":0},{"$f":"+請求書!L30","v":0},{"$f":"+請求書!M30","v":0},{"$f":"+請求書!N30","v":0},{"$f":"+請求書!O30","v":0},{"$f":"+請求書!P30","v":0},{"$f":"IF(請求書!Q30=0,\" \",Q30)","v":" "},{"$f":"+請求書!R69","v":0},{"$f":"+請求書!S69","v":0},{"$f":"+請求書!T69","v":0},{"$f":"+請求書!U69","v":0},{"$f":"+請求書!V69","v":0},{"$f":"IF(請求書!W30=0,\" \",W30)","v":" "},{"$f":"+請求書!X69","v":0},{"$f":"+請求書!Y69","v":0},{"$f":"+請求書!Z69","v":0},{"$f":"+請求書!AA30","v":0},{"$f":"+請求書!AB30","v":0},{"$f":"+請求書!AC30","v":0},{"$f":"+請求書!AD30","v":0},{"$f":"+請求書!AE30","v":0},{"$f":"+請求書!AF30","v":0},0]
[{"$f":"+請求書!A31","v":0},"/",{"$f":"+請求書!C31","v":0},{"$f":"+請求書!D31","v":0},{"$f":"+請求書!E31","v":0},{"$f":"+請求書!F31","v":0},{"$f":"+請求書!G31","v":0},{"$f":"+請求書!H31","v":0},{"$f":"+請求書!I31","v":0},{"$f":"+請求書!J31","v":0},{"$f":"+請求書!K31","v":0},{"$f":"+請求書!L31","v":0},{"$f":"+請求書!M31","v":0},{"$f":"+請求書!N31","v":0},{"$f":"+請求書!O31","v":0},{"$f":"+請求書!P31","v":0},{"$f":"IF(請求書!Q31=0,\" \",Q31)","v":" "},{"$f":"+請求書!R70","v":0},{"$f":"+請求書!S70","v":0},{"$f":"+請求書!T70","v":0},{"$f":"+請求書!U70","v":0},{"$f":"+請求書!V70","v":0},{"$f":"IF(請求書!W31=0,\" \",W31)","v":" "},{"$f":"+請求書!X70","v":0},{"$f":"+請求書!Y70","v":0},{"$f":"+請求書!Z70","v":0},{"$f":"+請求書!AA31","v":0},{"$f":"+請求書!AB31","v":0},{"$f":"+請求書!AC31","v":0},{"$f":"+請求書!AD31","v":0},{"$f":"+請求書!AE31","v":0},{"$f":"+請求書!AF31","v":0},0]
[{"$f":"+請求書!A32","v":0},"/",{"$f":"+請求書!C32","v":0},{"$f":"+請求書!D32","v":0},{"$f":"+請求書!E32","v":0},{"$f":"+請求書!F32","v":0},{"$f":"+請求書!G32","v":0},{"$f":"+請求書!H32","v":0},{"$f":"+請求書!I32","v":0},{"$f":"+請求書!J32","v":0},{"$f":"+請求書!K32","v":0},{"$f":"+請求書!L32","v":0},{"$f":"+請求書!M32","v":0},{"$f":"+請求書!N32","v":0},{"$f":"+請求書!O32","v":0},{"$f":"+請求書!P32","v":0},{"$f":"IF(請求書!Q32=0,\" \",Q32)","v":" "},{"$f":"+請求書!R71","v":0},{"$f":"+請求書!S71","v":0},{"$f":"+請求書!T71","v":0},{"$f":"+請求書!U71","v":0},{"$f":"+請求書!V71","v":0},{"$f":"IF(請求書!W32=0,\" \",W32)","v":" "},{"$f":"+請求書!X71","v":0},{"$f":"+請求書!Y71","v":0},{"$f":"+請求書!Z71","v":0},{"$f":"+請求書!AA32","v":0},{"$f":"+請求書!AB32","v":0},{"$f":"+請求書!AC32","v":0},{"$f":"+請求書!AD32","v":0},{"$f":"+請求書!AE32","v":0},{"$f":"+請求書!AF32","v":0},0,null,null,null,"振込先",null,null,null,null,null,{"$f":"+基本項目!B15","v":0},null,null,null,null,null,{"$f":"+基本項目!B17","v":0}]
[{"$f":"+請求書!A33","v":0},"/",{"$f":"+請求書!C33","v":0},{"$f":"+請求書!D33","v":0},{"$f":"+請求書!E33","v":0},{"$f":"+請求書!F33","v":0},{"$f":"+請求書!G33","v":0},{"$f":"+請求書!H33","v":0},{"$f":"+請求書!I33","v":0},{"$f":"+請求書!J33","v":0},{"$f":"+請求書!K33","v":0},{"$f":"+請求書!L33","v":0},{"$f":"+請求書!M33","v":0},{"$f":"+請求書!N33","v":0},{"$f":"+請求書!O33","v":0},{"$f":"+請求書!P33","v":0},{"$f":"IF(請求書!Q33=0,\" \",Q33)","v":" "},{"$f":"+請求書!R72","v":0},{"$f":"+請求書!S72","v":0},{"$f":"+請求書!T72","v":0},{"$f":"+請求書!U72","v":0},{"$f":"+請求書!V72","v":0},{"$f":"IF(請求書!W33=0,\" \",W33)","v":" "},{"$f":"+請求書!X72","v":0},{"$f":"+請求書!Y72","v":0},{"$f":"+請求書!Z72","v":0},{"$f":"+請求書!AA33","v":0},{"$f":"+請求書!AB33","v":0},{"$f":"+請求書!AC33","v":0},{"$f":"+請求書!AD33","v":0},{"$f":"+請求書!AE33","v":0},{"$f":"+請求書!AF33","v":0},0,null,null,null,"銀行コード",null,null,null,null,null,{"$f":"MID(基本項目!$K$16,1,1)","v":""},{"$f":"MID(基本項目!$K$16,2,1)","v":""},{"$f":"MID(基本項目!$K$16,3,1)","v":""},{"$f":"MID(基本項目!$K$16,4,1)","v":""},"支店コード",null,null,null,null,{"$f":"MID(基本項目!$K$18,1,1)","v":""},{"$f":"MID(基本項目!$K$18,2,1)","v":""},{"$f":"MID(基本項目!$K$18,3,1)","v":""}]
["計",null,null,null,null,null,null,null,null,null,null,null,null,null,null,null,null,null,null,null,null,null,{"$f":"+請求書!W34","v":0},{"$f":"+請求書!X34","v":0},{"$f":"+請求書!Y34","v":0},{"$f":"+請求書!Z34","v":0},{"$f":"+請求書!AA34","v":0},{"$f":"+請求書!AB34","v":0},{"$f":"+請求書!AC34","v":0},{"$f":"+請求書!AD34","v":0},{"$f":"+請求書!AE34","v":0},{"$f":"+請求書!AF34","v":0},null,null,null,null,"種別・番号",null,null,null,null,null,{"$f":"+基本項目!B19","v":0},null,null,null,null,{"$f":"MID(基本項目!$K$20,1,1)","v":""},{"$f":"MID(基本項目!$K$20,2,1)","v":""},{"$f":"MID(基本項目!$K$20,3,1)","v":""},{"$f":"MID(基本項目!$K$20,4,1)","v":""},{"$f":"MID(基本項目!$K$20,5,1)","v":""},{"$f":"MID(基本項目!$K$20,6,1)","v":""},{"$f":"MID(基本項目!$K$20,7,1)","v":""}]
["消　　　費　　　税",null,null,null,null,null,null,null,null,null,null,null,null,null,null,null,null,null,null,{"$f":"+T35","v":10},"%",null,{"$f":"+請求書!W35","v":0},{"$f":"+請求書!X35","v":0},{"$f":"+請求書!Y35","v":0},{"$f":"+請求書!Z35","v":0},{"$f":"+請求書!AA35","v":0},{"$f":"+請求書!AB35","v":0},{"$f":"+請求書!AC35","v":0},{"$f":"+請求書!AD35","v":0},{"$f":"+請求書!AE35","v":0},{"$f":"+請求書!AF35","v":0},null,null,null,null,"口座名義　　　　　　　　　　（カタカナ）",null,null,null,null,null,{"$f":"MID(基本項目!$B$21,1,1)","v":""},{"$f":"MID(基本項目!$B$21,2,1)","v":""},{"$f":"MID(基本項目!$B$21,3,1)","v":""},{"$f":"MID(基本項目!$B$21,4,1)","v":""},{"$f":"MID(基本項目!$B$21,5,1)","v":""},{"$f":"MID(基本項目!$B$21,6,1)","v":""},{"$f":"MID(基本項目!$B$21,7,1)","v":""},{"$f":"MID(基本項目!$B$21,8,1)","v":""},{"$f":"MID(基本項目!$B$21,9,1)","v":""},{"$f":"MID(基本項目!$B$21,10,1)","v":""},{"$f":"MID(基本項目!$B$21,11,1)","v":""},{"$f":"MID(基本項目!$B$21,12,1)","v":""}]
["合　　　　　　　　計",null,null,null,null,null,null,null,null,null,null,null,null,null,null,null,null,null,null,null,null,null,{"$f":"+請求書!W36","v":0},{"$f":"+請求書!X36","v":0},{"$f":"+請求書!Y36","v":0},{"$f":"+請求書!Z36","v":0},{"$f":"+請求書!AA36","v":0},{"$f":"+請求書!AB36","v":0},{"$f":"+請求書!AC36","v":0},{"$f":"+請求書!AD36","v":0},{"$f":"+請求書!AE36","v":0},{"$f":"+請求書!AF36","v":0},null,null,null,null,null,null,null,null,null,null,{"$f":"MID(基本項目!$B$21,13,1)","v":""},{"$f":"MID(基本項目!$B$21,14,1)","v":""},{"$f":"MID(基本項目!$B$21,15,1)","v":""},{"$f":"MID(基本項目!$B$21,16,1)","v":""},{"$f":"MID(基本項目!$B$21,17,1)","v":""},{"$f":"MID(基本項目!$B$21,18,1)","v":""},{"$f":"MID(基本項目!$B$21,19,1)","v":""},{"$f":"MID(基本項目!$B$21,20,1)","v":""},{"$f":"MID(基本項目!$B$21,21,1)","v":""},{"$f":"MID(基本項目!$B$21,22,1)","v":""},{"$f":"MID(基本項目!$B$21,23,1)","v":""},{"$f":"MID(基本項目!$B$21,24,1)","v":""}]
[null,null,null,"本取引に関し株木建設株式会社契約約款等を理解・承諾し、請求行為を行っています。"]
[null,null,null,"本請求に依る債権は、株木建設株式会社の書面による承諾なしに第三者へ譲渡しません。"]
[null,null,null,"事務取扱手数料は、請求元で負担します。",null,null,null,null,null,null,null,null,null,null,null,null,null,null,null,null,null,null,null,null,null,null,null,null,null,null,null,null,null,null,null,null,null,null,null,null,null,null,null,null,null,null,null,null,null,null,null,null,null,{"$f":"+BB39","v":"2023.06.01改訂"}]

{"sheet":"継続","index":6,"n_rows":34,"n_cols":12,"rows_kept":34,"cut":false,"hidden":false,"merged":[[18,8,18,11],[3,9,3,11],[5,8,5,11],[6,8,6,11],[7,8,7,11],[8,8,8,11],[15,8,15,11],[9,8,9,11],[3,0,3,2],[16,8,16,11],[17,8,17,11],[10,8,10,11],[11,8,11,11],[12,8,12,11],[13,8,13,11],[14,8,14,11],[32,8,32,11],[1,8,1,11],[2,8,2,11],[25,8,25,11],[26,8,26,11],[27,8,27,11],[29,8,29,11],[30,8,30,11],[31,8,31,11],[22,8,22,11],[23,8,23,11],[24,8,24,11],[28,8,28,11],[20,8,20,11],[21,8,21,11],[19,8,19,11]]}
[null,null,null,null,null,null,null,null,"カブキコード",{"$f":"+基本項目!K5","v":""},"－",{"$f":"+基本項目!L5","v":"000"}]
[null,null,null,null,"請 求 内 訳 継 続 用 紙",null,null,null,{"$f":"+基本項目!B7","v":0}]
[null,null,null,null,null,null,null,null,{"$f":"+基本項目!B9","v":0}]
[{"$f":"+基本項目!B23","v":0},null,null,{"$f":"+基本項目!B24","v":0},null,null,null,null,null,"枚中のＰ"]
[]
["月","／","日","品　　　　　名","数　　量","単位","単価","金　　　　　額","摘　要"]
[null,"／",null,null,null,null,null,{"$f":"ROUND(E7*G7,0)","v":0}]
[null,"／",null,null,null,null,null,{"$f":"ROUND(E8*G8,0)","v":0}]
[null,"／",null,null,null,null,null,0]
[null,"／",null,null,null,null,null,0]
[null,"／",null,null,null,null,null,0]
[null,"／",null,null,null,null,null,0]
[null,"／",null,null,null,null,null,0]
[null,"／",null,null,null,null,null,0]
[null,"／",null,null,null,null,null,0]
[null,"／",null,null,null,null,null,0]
[null,"／",null,null,null,null,null,0]
[null,"／",null,null,null,null,null,0]
[null,"／",null,null,null,null,null,0]
[null,"／",null,null,null,null,null,0]
[null,"／",null,null,null,null,null,0]
[null,"／",null,null,null,null,null,0]
[null,"／",null,null,null,null,null,0]
[null,"／",null,null,null,null,null,0]
[null,"／",null,null,null,null,null,0]
[null,"／",null,null,null,null,null,0]
[null,"／",null,null,null,null,null,0]
[null,"／",null,null,null,null,null,0]
[null,"／",null,null,null,null,null,0]
[null,"／",null,null,null,null,null,0]
[null,"／",null,null,null,null,null,0]
[null,"／",null,null,null,null,null,0]
[null,"／",null,"小計",null,null,null,{"$f":"SUM(H7:H32)","v":0}]
[null,null,null,"※継続用紙は３部印刷し、２部提出してください。",null,null,null,null,null,null,null,"株木建設株式会社　2023.06.01改訂"]